BEGIN:VCALENDAR
VERSION:2.0
PRODID:-//Kibernaptár - ECPv6.15.20//NONSGML v1.0//EN
CALSCALE:GREGORIAN
METHOD:PUBLISH
X-WR-CALNAME:Kibernaptár
X-ORIGINAL-URL:https://kibernaptar.hu
X-WR-CALDESC:Események Kibernaptár
REFRESH-INTERVAL;VALUE=DURATION:PT1H
X-Robots-Tag:noindex
X-PUBLISHED-TTL:PT1H
BEGIN:VTIMEZONE
TZID:Europe/Budapest
BEGIN:DAYLIGHT
TZOFFSETFROM:+0100
TZOFFSETTO:+0200
TZNAME:CEST
DTSTART:20250330T010000
END:DAYLIGHT
BEGIN:STANDARD
TZOFFSETFROM:+0200
TZOFFSETTO:+0100
TZNAME:CET
DTSTART:20251026T010000
END:STANDARD
BEGIN:DAYLIGHT
TZOFFSETFROM:+0100
TZOFFSETTO:+0200
TZNAME:CEST
DTSTART:20260329T010000
END:DAYLIGHT
BEGIN:STANDARD
TZOFFSETFROM:+0200
TZOFFSETTO:+0100
TZNAME:CET
DTSTART:20261025T010000
END:STANDARD
BEGIN:DAYLIGHT
TZOFFSETFROM:+0100
TZOFFSETTO:+0200
TZNAME:CEST
DTSTART:20270328T010000
END:DAYLIGHT
BEGIN:STANDARD
TZOFFSETFROM:+0200
TZOFFSETTO:+0100
TZNAME:CET
DTSTART:20271031T010000
END:STANDARD
END:VTIMEZONE
BEGIN:VEVENT
DTSTART;TZID=Europe/Budapest:20260424T083000
DTEND;TZID=Europe/Budapest:20260424T123000
DTSTAMP:20260424T135535
CREATED:20260318T062211Z
LAST-MODIFIED:20260318T062211Z
UID:10000267-1777019400-1777033800@kibernaptar.hu
SUMMARY:IBF továbbképzés - Gill & Murry
DESCRIPTION:Kötelező éves IBF továbbképzés – NIS2 megfelelés egyszerűen\nA 17/2025. (VII. 24.) EM rendelet alapján a NIS2 kötelezett szervezeteknél az elektronikus információs rendszerek biztonságáért felelős személyeknek évente 20 órás továbbképzésen kell részt venniük.\nA képzésekre lehet regisztrálni egyesével illetve mint egy csomagot is meg lehet venni jelentős kedvezménnyel.\nTovábbi információkért keresse fel Weboldalunk! \nA Gill & Murry online IBF képzése segít könnyen megfelelni ennek az elvárásnak:\n✅ 20 órás\, rendeletnek megfelelő program\n✅ A jogszabályban szereplő mind a 7 témakör teljes körű feldolgozása\n✅ Így biztosan teljesül a minimum 3 témakör követelménye\n✅ Gyakorlati példák és valós kiberbiztonsági tapasztala tok\n✅ 100% online\, rugalmasan elvégezhető\nIdeális képzés azoknak\, akik NIS2 megfelelésért vagy információbiztonságért felelnek a szervezetükben.
URL:https://kibernaptar.hu/esemeny/ibf-tovabbkepzes-gill-murry/2026-04-24/
LOCATION:Online
CATEGORIES:Egyéb
ATTACH;FMTTYPE=image/jpeg:https://kibernaptar.hu/wp-content/uploads/2026/03/648318428_1541231970672208_3275601495903885502_n.jpg
ORGANIZER;CN="Gill &amp%3B Murry":MAILTO:hungary@gillandmurry.com
END:VEVENT
END:VCALENDAR