BEGIN:VCALENDAR
VERSION:2.0
PRODID:-//Kibernaptár - ECPv6.15.20//NONSGML v1.0//EN
CALSCALE:GREGORIAN
METHOD:PUBLISH
X-WR-CALNAME:Kibernaptár
X-ORIGINAL-URL:https://kibernaptar.hu
X-WR-CALDESC:Események Kibernaptár
REFRESH-INTERVAL;VALUE=DURATION:PT1H
X-Robots-Tag:noindex
X-PUBLISHED-TTL:PT1H
BEGIN:VTIMEZONE
TZID:Europe/Budapest
BEGIN:DAYLIGHT
TZOFFSETFROM:+0100
TZOFFSETTO:+0200
TZNAME:CEST
DTSTART:20240331T010000
END:DAYLIGHT
BEGIN:STANDARD
TZOFFSETFROM:+0200
TZOFFSETTO:+0100
TZNAME:CET
DTSTART:20241027T010000
END:STANDARD
BEGIN:DAYLIGHT
TZOFFSETFROM:+0100
TZOFFSETTO:+0200
TZNAME:CEST
DTSTART:20250330T010000
END:DAYLIGHT
BEGIN:STANDARD
TZOFFSETFROM:+0200
TZOFFSETTO:+0100
TZNAME:CET
DTSTART:20251026T010000
END:STANDARD
BEGIN:DAYLIGHT
TZOFFSETFROM:+0100
TZOFFSETTO:+0200
TZNAME:CEST
DTSTART:20260329T010000
END:DAYLIGHT
BEGIN:STANDARD
TZOFFSETFROM:+0200
TZOFFSETTO:+0100
TZNAME:CET
DTSTART:20261025T010000
END:STANDARD
END:VTIMEZONE
BEGIN:VEVENT
DTSTART;TZID=Europe/Budapest:20250416T170000
DTEND;TZID=Europe/Budapest:20250416T200000
DTSTAMP:20260419T222745
CREATED:20250401T084614Z
LAST-MODIFIED:20250401T084614Z
UID:10000144-1744822800-1744833600@kibernaptar.hu
SUMMARY:HunCERTalks 2025. április: Generatív AI vs. kiberbiztonság
DESCRIPTION:HunCERT kiberbiztonsági meetup\, powered by HUN-REN SZTAKI & ISZT\nA harmadik HunCERTalks meetupon a mesterséges intelligencia kódolásban történő felhasználása és etikátlan alkalmazása állnak majd a középpontban.\nMi történik\, ha a kódom felét a ChatGPT írja? Jó ötlet mindent generatív AI-ra bízni? Mit jelent ez a nem nyílt forráskódú szoftverek nyelvére fordítva?\nTöbbek közt ezekről lesz szó az áprilisi HunCERTalks meetupon\, amit ezúttal a korábbi alkalmaktól eltérő helyszínen rendezünk. \nHelyszín: 1111. Kende utca 13-17\, alagsori Nagytanácsterem. \nProgram: \n17:00 – 17:30 – Érkezés\n17:30 – 18:30 – Előadások\n18:30 – 20:00 – Networking \nElőadók: \nDr. Bödecs Béla\, alelnök\, Internet Szolgáltatók Szövetsége (ISZT) / ügyvezető\, VIVAnet DataCenter Kft – Kódolás AI segítséggel – néhány gondolat\nDr. Héder Mihály\, tudományfilozófus\, HUN-REN SZTAKI – A biztonságos MI filozófiai dimenziói\nTBA \nA rendezvény ingyenes\, de regisztrációhoz kötött. A rendezvényen kép és hangfelvétel készülhet.
URL:https://kibernaptar.hu/esemeny/huncertalks-2025-aprilis-generativ-ai-vs-kiberbiztonsag/
LOCATION:HUN-REN SZTAKI Kende Nagytanács\, Kende u. 13-17\, Budapest\, 1111
CATEGORIES:HunCERT által szervezett események
ATTACH;FMTTYPE=image/png:https://kibernaptar.hu/wp-content/uploads/2025/04/huncertalks_2025_aprilis_sztakiweb.png
ORGANIZER;CN="ISZT%2C HunCERT%2C HUN-REN SZTAKI":MAILTO:cert@cert.hu
END:VEVENT
END:VCALENDAR