BEGIN:VCALENDAR
VERSION:2.0
PRODID:-//Kibernaptár - ECPv6.15.20//NONSGML v1.0//EN
CALSCALE:GREGORIAN
METHOD:PUBLISH
X-WR-CALNAME:Kibernaptár
X-ORIGINAL-URL:https://kibernaptar.hu
X-WR-CALDESC:Események Kibernaptár
REFRESH-INTERVAL;VALUE=DURATION:PT1H
X-Robots-Tag:noindex
X-PUBLISHED-TTL:PT1H
BEGIN:VTIMEZONE
TZID:Europe/Budapest
BEGIN:DAYLIGHT
TZOFFSETFROM:+0100
TZOFFSETTO:+0200
TZNAME:CEST
DTSTART:20250330T010000
END:DAYLIGHT
BEGIN:STANDARD
TZOFFSETFROM:+0200
TZOFFSETTO:+0100
TZNAME:CET
DTSTART:20251026T010000
END:STANDARD
BEGIN:DAYLIGHT
TZOFFSETFROM:+0100
TZOFFSETTO:+0200
TZNAME:CEST
DTSTART:20260329T010000
END:DAYLIGHT
BEGIN:STANDARD
TZOFFSETFROM:+0200
TZOFFSETTO:+0100
TZNAME:CET
DTSTART:20261025T010000
END:STANDARD
BEGIN:DAYLIGHT
TZOFFSETFROM:+0100
TZOFFSETTO:+0200
TZNAME:CEST
DTSTART:20270328T010000
END:DAYLIGHT
BEGIN:STANDARD
TZOFFSETFROM:+0200
TZOFFSETTO:+0100
TZNAME:CET
DTSTART:20271031T010000
END:STANDARD
END:VTIMEZONE
BEGIN:VEVENT
DTSTART;TZID=Europe/Budapest:20260219T180000
DTEND;TZID=Europe/Budapest:20260219T223000
DTSTAMP:20260419T230106
CREATED:20260211T052832Z
LAST-MODIFIED:20260211T052832Z
UID:10000247-1771524000-1771540200@kibernaptar.hu
SUMMARY:Women & AI - Cybersecurity
DESCRIPTION:​Women & AI #3 – Amit mindig is tudni akartál az AI cybersecurity-ről\, de azt sem tudtad\, mit kérdezz \n​3. találkozónk a mini-kérdőívünk legnépszerűbb témájára reagál: legtöbben az AI cybersecurity oldalára vagytok kíváncsiak \n​Polereczki Andrea Chief Cybersecurity Advisor (alapító\, Women4Cyber Magyarország Alapítvány) bemutatja a historikus adatokból örökölt hibák és „mérgezett” betanító adatok\, hibás promptok\, rossz adatok torzításait és kockázatait. \n​Mózer János (Badcompany) egy demoban mutatja be AI agent védelmi rendszerüket. \n​Majd egy panelbeszélgetésre csatlakozik még hozzájuk Szeiler Andrea (MVM Group CISO\, cybersecurity expert)\, Babarczi Rudolf (OTP\, Senior Chapter Lead) és Biró Gabriella (Cyber Witch\, a Közszolgálati Egyetem oktatója\, IT security expert).
URL:https://kibernaptar.hu/esemeny/women-ai-cybersecurity/
LOCATION:M12 OTP Irodaház\, Madarász V. u. 12.\, Budapest\, 1131
CATEGORIES:Szakmai Fórum,Tervezett esemény
END:VEVENT
BEGIN:VEVENT
DTSTART;TZID=Europe/Budapest:20260224T000000
DTEND;TZID=Europe/Budapest:20260225T235959
DTSTAMP:20260419T230106
CREATED:20251126T071507Z
LAST-MODIFIED:20251126T071507Z
UID:10000222-1771891200-1772063999@kibernaptar.hu
SUMMARY:Grand Opening 2026
DESCRIPTION:Az ICT Global GRAND OPENING 2026 konferencia\nKétnapos\, magas intenzitású\, stratégiai fókuszú esemény\, amely kíméletlenül őszinte válaszokat ad a jelen legégetőbb üzleti és technológiai kérdéseire. \nAz első napon két párhuzamos színpadon futnak a programok: \n🎯 Business Stage \n🔭 Tech Horizon Stage
URL:https://kibernaptar.hu/esemeny/grand-opening-2026/
LOCATION:Hotel Azúr\, Siófok\, 8600 Siófok\, Erkel Ferenc u. 2/c\, Siófok\, 8600
CATEGORIES:Tervezett esemény
ATTACH;FMTTYPE=image/jpeg:https://kibernaptar.hu/wp-content/uploads/2025/11/Banner_Grand-Opening_2026_linkedIn-webre.jpg
ORGANIZER;CN="ICT global":MAILTO:zsurban67@gmail.com
END:VEVENT
BEGIN:VEVENT
DTSTART;TZID=Europe/Budapest:20260320T100000
DTEND;TZID=Europe/Budapest:20260320T110000
DTSTAMP:20260419T230106
CREATED:20260304T134854Z
LAST-MODIFIED:20260309T072953Z
UID:10000261-1774000800-1774004400@kibernaptar.hu
SUMMARY:NIS2 audit tanulságok és AI irányítás: Felkészülés az AI Act korszakára
DESCRIPTION:NIS2 felkészítési tanácsadó és szakember\, aki több mint egy éve segíti a NIS2-kötelezett vállalatokat sikeres auditokra való felkészülésben.\nMiről lesz szó?\nLegújabb NIS2 változások\nMost akkor pontosan kik kötelezettek? – 2026 január 6-i állapot\nIBF kötelezettségek – mit kell ténylegesen teljesíteni?\nEddigi audit tapasztalatok – gyakorlati tanulságok\nAudit lezárásának a pontos lépései\nAudit pontozás – ki kap 1000 hibapontot?\nMi történik egy sikertelen audit után?\nAI Act – Bevezető és EU-s szabályozási körkép\nMire számíthatnak a cégek?\nKi kötelezett?\nMilyen új megfelelési kötelezettségek jönnek?\nHogyan érinti mindez a vállalati működést?
URL:https://kibernaptar.hu/esemeny/nis2-audit-tanulsagok-es-ai-iranyitas-felkeszules-az-ai-act-korszakara/
LOCATION:Online
CATEGORIES:Tervezett esemény
ORGANIZER;CN="Gill &amp%3B Murry":MAILTO:hungary@gillandmurry.com
END:VEVENT
BEGIN:VEVENT
DTSTART;TZID=Europe/Budapest:20260325T000000
DTEND;TZID=Europe/Budapest:20260326T235959
DTSTAMP:20260419T230106
CREATED:20260126T063922Z
LAST-MODIFIED:20260312T122610Z
UID:10000235-1774396800-1774569599@kibernaptar.hu
SUMMARY:Critical Infra ConnAction konferencia
DESCRIPTION:Ipar és innováció egy helyen – ahol a kritikus infrastruktúra jövője formálódik!\nCsatlakozz hozzánk 2026. március 25–26-án az Ensans Thermal Margitsziget Hotelben\, a Critical Infra ConnAction konferencián\, ahol a kritikus infrastruktúrában dolgozó szakemberek\, döntéshozók és technológiai partnerek közösen gondolkodnak az ipari digitalizáció következő lépcsőfokáról. \nAz esemény fókuszában az adatvezérelt és biztonságos ipari működés áll – az adatgyűjtéstől és ipari kommunikációtól kezdve\, az adatelemzésen és AI-alapú megoldásokon át\, egészen az OT-kiberbiztonságig. \nA konferencia kiemelten szól a villamosenergia-\, víz- és szennyvíz-\, olaj- és gázipari\, gyártási és közlekedési szektor szereplőinek\,\na számukra megoldásokat szállító rendszerintegrátoroknak\, valamint a hardver és szoftver komponenseket gyártó illetve szállító vállalatok is megjelennek. \nA Com-Forth Kft. több mint 15 éves tapasztalattal szervez olyan eseményeket\, ahol a szakmaiság\, a valódi tudásmegosztás\, a gyakorlati tapasztalatok megosztása és az értékes kapcsolatok építése áll a középpontban. \nIdén olyan aktuális és égető kérdéseket járunk körbe\, mint:\n– az OT-kiberbiztonság gyakorlati lehetőségei és a NIS2 megfelelés\n– az ipari adatelemzés és mesterséges intelligencia\n– az adatgyűjtés és ipari kommunikáció kritikus infrastruktúrák OT rendszereiben \nVezető iparági szakértők osztják meg tapasztalataikat\, így gyakorlati előadásokon keresztül betekintést nyerhetsz többek között a NIS2 kritikus infrastruktúrákra gyakorolt hatásába\, valamint az AI ipari alkalmazásainak valós kihívásaiba és lehetőségeibe. \nA szakmai programot egy exkluzív\, kötetlen est zárja élő zenével\, meglepetés programokkal. Így a kapcsolatépítés valódi élménnyé válik.
URL:https://kibernaptar.hu/esemeny/critical-infra-connaction-konferencia-2/
LOCATION:Ensana Thermal Margitsziget\, Budapest-Margitsziget\, Budapest\, 1007
CATEGORIES:Szakmai Fórum,Tervezett esemény,zártkörű esemény
ATTACH;FMTTYPE=image/png:https://kibernaptar.hu/wp-content/uploads/2026/01/Critical-Infra-ConnAction-2026-Helyszinvaltozas22.png
ORGANIZER;CN="Com-Forth Kft.":MAILTO:info@comforth.hu
END:VEVENT
BEGIN:VEVENT
DTSTART;TZID=Europe/Budapest:20260326T090000
DTEND;TZID=Europe/Budapest:20260326T150000
DTSTAMP:20260419T230106
CREATED:20260312T064026Z
LAST-MODIFIED:20260312T064026Z
UID:10000263-1774515600-1774537200@kibernaptar.hu
SUMMARY:Conn@action
DESCRIPTION:Hálózati és Telekommunikációs Konferencia \n9:15\nKöszöntő\, megnyitó – Clico – Csinos Tamás \n9:30\nHibakeresés agentic ai segitségével wifi és switching hálózatokban\n10:00\nArista – kognitív irodai hálózat\n10:30\nWhy smart out-of-band management offers so much more than simple „recovery of your broken network infrastructure”\n11:00\nNis2 – how to protect ot while keeping the operation running?\n12:00\nApi vezérlés példa bemutató\n12:30\nArista wifi 7 és miért jó a negyedik „multifunction” rádió
URL:https://kibernaptar.hu/esemeny/connaction/
LOCATION:D50 Hotel és Rendezvényközpont  1071 Budapest\, Damjanich utca 50.\, Damjanich utca 50.\, Budapest\, 1071
CATEGORIES:Egyéb
END:VEVENT
BEGIN:VEVENT
DTSTART;TZID=Europe/Budapest:20261110T000000
DTEND;TZID=Europe/Budapest:20261112T235959
DTSTAMP:20260419T230106
CREATED:20260302T135640Z
LAST-MODIFIED:20260302T135640Z
UID:10000259-1794268800-1794527999@kibernaptar.hu
SUMMARY:Future IT 2026
DESCRIPTION:Future IT 2026 – Ahol üzlet születik a találkozásokból. \nA digitális tér játékszabályai folyamatosan változnak. \nA tegnap még stabilnak hitt stratégiák ma már korrekcióra szorulnak\, a holnap technológiája pedig már most formálja az üzleti döntéseket. \nA Future IT 2026 konferencián nem csupán trendeket mutatunk be. A hype mögé nézünk\, és azokat a valós\, fenntartható technológiai megoldásokat és üzleti stratégiákat keressük\, amelyek a radikális bizonytalanság korszakában is működnek. \n🎯 Gyakorlat. \n📊 Valós üzleti tapasztalatok. \n🚀 Versenyelőnyt adó tudás
URL:https://kibernaptar.hu/esemeny/future-it-2026/
LOCATION:Hotel Azúr\, Siófok\, 8600 Siófok\, Erkel Ferenc u. 2/c\, Siófok\, 8600
CATEGORIES:Szakmai Fórum
ATTACH;FMTTYPE=image/jpeg:https://kibernaptar.hu/wp-content/uploads/2026/02/Final-Boritokep_Future_IT_2026-uj-scaled.jpg
ORGANIZER;CN="ICT Global":MAILTO:zsurban@ictglobal.hu
END:VEVENT
END:VCALENDAR