BEGIN:VCALENDAR
VERSION:2.0
PRODID:-//Kibernaptár - ECPv6.15.20//NONSGML v1.0//EN
CALSCALE:GREGORIAN
METHOD:PUBLISH
X-WR-CALNAME:Kibernaptár
X-ORIGINAL-URL:https://kibernaptar.hu
X-WR-CALDESC:Események Kibernaptár
REFRESH-INTERVAL;VALUE=DURATION:PT1H
X-Robots-Tag:noindex
X-PUBLISHED-TTL:PT1H
BEGIN:VTIMEZONE
TZID:Europe/Budapest
BEGIN:DAYLIGHT
TZOFFSETFROM:+0100
TZOFFSETTO:+0200
TZNAME:CEST
DTSTART:20230326T010000
END:DAYLIGHT
BEGIN:STANDARD
TZOFFSETFROM:+0200
TZOFFSETTO:+0100
TZNAME:CET
DTSTART:20231029T010000
END:STANDARD
BEGIN:DAYLIGHT
TZOFFSETFROM:+0100
TZOFFSETTO:+0200
TZNAME:CEST
DTSTART:20240331T010000
END:DAYLIGHT
BEGIN:STANDARD
TZOFFSETFROM:+0200
TZOFFSETTO:+0100
TZNAME:CET
DTSTART:20241027T010000
END:STANDARD
BEGIN:DAYLIGHT
TZOFFSETFROM:+0100
TZOFFSETTO:+0200
TZNAME:CEST
DTSTART:20250330T010000
END:DAYLIGHT
BEGIN:STANDARD
TZOFFSETFROM:+0200
TZOFFSETTO:+0100
TZNAME:CET
DTSTART:20251026T010000
END:STANDARD
END:VTIMEZONE
BEGIN:VEVENT
DTSTART;TZID=Europe/Budapest:20241119T083000
DTEND;TZID=Europe/Budapest:20241119T123000
DTSTAMP:20260420T025627
CREATED:20241107T130534Z
LAST-MODIFIED:20241107T130816Z
UID:10000120-1732005000-1732019400@kibernaptar.hu
SUMMARY:Gábor Dénes Egyetem: Ördöglakat Minikonferencia- Rébuszok helyett kézzelfogható megoldások a NIS2 fejtörőhöz
DESCRIPTION:A kiberbiztonság szavatolása napjainkban már nem csak ajánlás\, hanem kötelező törvényi előírás az érintett vállalatok részére. Szeretnénk meginvitálni Önt a Gábor Dénes Egyetem által szervezett „Ördöglakat” minikonferenciánkra\, melynek keretében ismertetjük a NIS2 irányelvben meghatározott jogszabályi előírásokat\, emellett pedig olyan kézzelfogható\, gyakorlati megoldásokkal is megismerkedhetnek\, amelyek segítségével a vállalatok és a kiberbiztonsági szakemberek munkája egyszerűbbé és átláthatóbbá válik. \nPROGRAM\n08:30-09:00 – Érkezés\, regisztráció \n09:00-09:10 – Miért a GDE? – Elnöki köszöntő // Gábor Dénes Egyetem (GDE)\, Dr. Dietz Ferenc \n09:10-09:30 – Fáj vagy nem fáj\, ha lecsap a NIS2? // Szabályozott Tevékenységek Felügyeleti Hatósága (SZTFH)\, Bor Olivér \nAz előadás során nemcsak a NIS2 Európa Uniós irányelv részleteibe kaphatunk betekintést\, hanem arra is fény derül\, hogy a kiberbűnözők mekkora károkat tudnak okozni egy szervezet életében. Az irányelv hazai implementációs folyamata jelenleg is dübörög\, a prezentációból a legfontosabb határidők\, feladatok és kritériumok is kiderülnek. \n09:30-09:50 – A szakszolgálat\, mint a védelem legerősebb bástyája\, „NIS2 és az incidenskezelés” // Nemzeti Kibervédelmi Intézet (NKI)\, Bíró Róbert \nAz előadás célja\, hogy betekintést adjon az incidenskezelés és a kiberbiztonsági követelmények megteremtésének gyakorlati megközelítésébe a NIS2 és a hatályos ENISA irányelveket alapul véve\, továbbá\, hogy alapot szolgáltasson a hatékony együttműködés megteremtésére. \n09:50-10:10 – Jövő a jelenben\, fókuszban a tudatosítás és képzés: hogyan tud segíteni a GDE a NIS2 megfelelésben? // GDE-KIT\, Détári István \nA Gábor Dénes Egyetem nemcsak a hagyományos informatikai egyetemi képzésben jár élen\, hanem valós piaci feladatok megoldásában segíti partnereit az üzleti szférában is. Így van ez a NIS2 felkészüléssel is\, melynek kiemelten fontos eleme a dolgozói tudatosítás és képzés. Nézzük meg\, hogyan támogatja a vállalatokat ebben a GDE! \n10:10-10:25 – Kérdezz-felelek \n10:25-10:55 – Kávészünet\, Networking \n10:55-11:10 – NIS2 Érintett vagyok\, mit teszek? // Educational Development Informatikai Zrt.\, Dr. Szabó Balázs \nEbben a prezentációban bemutatjuk azokat a folyamatokat\, szereplőket\, amelyek segítenek egy vállalatot\, hogy eligazodjon a szabályozás útvesztőjében és hatékonyan be tudja építeni a NIS2 előírásokat a cég mindennapi életébe. \n11:10-11:30 – Hogyan tovább? – A NIS2 tanácsadók szerepe // Cybersafe Hungary Zrt – Dellei László \nEbben a prezentációban bemutatásra kerül az auditra való felkészítés folyamata\, a felmérés\, GAP analízis\, szabályzatok elkészítése\, oktatás\, megoldási javaslatok\, hardver szoftver beszerzés\, beüzemelés és a működtetés. \n11:30-11:50 – Célegyenesben az audit // Auditori előadás \n11:50- 12:15 – Ha megoldást keres: AEGIS // Spartan Code Zrt.\, Suti Péter \nA görög mitológiában az Aegis\, Zeusz legendás pajzsa jelentette a legmagasabb szintű védelmet és oltalmat. Most ez az ősi erő újjászületik a digitális korban! Ismerd meg az AEGIS Megfelelés Menedzsment Rendszert\, amely nem csak megvéd a kiberfenyegetésektől\, de pártfogásába veszi teljes NIS2 megfelelési folyamatod. \n12:15-12:30 – Kérdezz-felelek \nBízunk benne\, hogy meghívott előadóink útmutatásával a nap végére minden fontos információ a rendelkezésükre fog állni ahhoz\, hogy vállalatuk fel tudjon készülni a NIS2 által támasztott kihívásokra. \n  \nAmennyiben a téma felkeltette érdeklődését\, várjuk REGISZTRÁCIÓJÁT ITT. \nA helyszínen korlátozott számban tudunk vendégeket fogadni\, ezért regisztrációja csak visszaigazolásunk után tekinthető véglegesnek. \nVendégeink számára az Etele Plaza Tetőparkolójában 4 órányi ingyenes parkolást biztosítunk. A tetőparkoló a Gyergyótölgyes utca felől közelíthető meg. A rendezvény végén ne felejtse el rendszámának megadásával érvényesíteni a 4 óra ingyenes parkolást hostesseinknél!
URL:https://kibernaptar.hu/esemeny/gabor-denes-egyetem-ordoglakat-minikonferencia-rebuszok-helyett-kezzelfoghato-megoldasok-a-nis2-fejtorohoz/
LOCATION:Etele Pláza\, Etele Cinema\, Etele út 68.\, Budapest\, 1115\, Hungary
CATEGORIES:Szakmai Fórum
ORGANIZER;CN="G%C3%A1bor D%C3%A9nes Egyetem":MAILTO:info@gde.hu
END:VEVENT
END:VCALENDAR