BEGIN:VCALENDAR
VERSION:2.0
PRODID:-//Kibernaptár - ECPv6.15.20//NONSGML v1.0//EN
CALSCALE:GREGORIAN
METHOD:PUBLISH
X-WR-CALNAME:Kibernaptár
X-ORIGINAL-URL:https://kibernaptar.hu
X-WR-CALDESC:Események Kibernaptár
REFRESH-INTERVAL;VALUE=DURATION:PT1H
X-Robots-Tag:noindex
X-PUBLISHED-TTL:PT1H
BEGIN:VTIMEZONE
TZID:Europe/Budapest
BEGIN:DAYLIGHT
TZOFFSETFROM:+0100
TZOFFSETTO:+0200
TZNAME:CEST
DTSTART:20230326T010000
END:DAYLIGHT
BEGIN:STANDARD
TZOFFSETFROM:+0200
TZOFFSETTO:+0100
TZNAME:CET
DTSTART:20231029T010000
END:STANDARD
BEGIN:DAYLIGHT
TZOFFSETFROM:+0100
TZOFFSETTO:+0200
TZNAME:CEST
DTSTART:20240331T010000
END:DAYLIGHT
BEGIN:STANDARD
TZOFFSETFROM:+0200
TZOFFSETTO:+0100
TZNAME:CET
DTSTART:20241027T010000
END:STANDARD
BEGIN:DAYLIGHT
TZOFFSETFROM:+0100
TZOFFSETTO:+0200
TZNAME:CEST
DTSTART:20250330T010000
END:DAYLIGHT
BEGIN:STANDARD
TZOFFSETFROM:+0200
TZOFFSETTO:+0100
TZNAME:CET
DTSTART:20251026T010000
END:STANDARD
END:VTIMEZONE
BEGIN:VEVENT
DTSTART;TZID=Europe/Budapest:20240905T000000
DTEND;TZID=Europe/Budapest:20240906T235959
DTSTAMP:20260420T032613
CREATED:20240805T113512Z
LAST-MODIFIED:20240805T113512Z
UID:10000083-1725494400-1725667199@kibernaptar.hu
SUMMARY:XIV. Média- és Internetkonferencia - Tegyünk együtt egy jobb internetért!
DESCRIPTION:A Nemzetközi Gyermekmentő Szolgálat 14. alkalommal rendezi meg Média- és internetkonferenciáját „Tegyünk együtt egy jobb internetért!” címmel\, a Magyar Telekom Székházban. \nA Nemzetközi Gyermekmentő Szolgálat\, mint Magyarország Safer Internet Centere (SIC) tudatosságnövelő központként\, hotline-ként a gyermekek\, szülők és tanárok felvilágosítását\, illetve az interneten található káros tartalmak eltávolítását tűzte ki célul. Szeretnénk elérni\, hogy az országban minél több internethasználó böngészhessen biztonságosabb körülmények között\, és hogy probléma esetén tudják\, hogy hozzánk is fordulhatnak.
URL:https://kibernaptar.hu/esemeny/xiv-media-es-internetkonferencia-tegyunk-egyutt-egy-jobb-internetert/
LOCATION:Magyar Telekom Székház\, Könyves Kálmán krt. 36.\, Budapest\, 1097\, Magyarország
CATEGORIES:Nemzetközi konferencia
ATTACH;FMTTYPE=image/jpeg:https://kibernaptar.hu/wp-content/uploads/2024/08/plakat.jpg
ORGANIZER;CN="Nemzetk%C3%B6zi Gyermekment%C5%91 Szolg%C3%A1lat - Safer Internet Center":MAILTO:siphun@gyermekmento.hu
END:VEVENT
BEGIN:VEVENT
DTSTART;TZID=Europe/Budapest:20240919T000000
DTEND;TZID=Europe/Budapest:20240920T235959
DTSTAMP:20260420T032613
CREATED:20240906T101548Z
LAST-MODIFIED:20240906T101548Z
UID:10000095-1726704000-1726876799@kibernaptar.hu
SUMMARY:IT EXPERTS-TECH LEADERS 2024 FELHŐ A JAVÁBÓL konferencia
DESCRIPTION:Vannak olyan sarkpontok 2024-ben\, amelyekről a felhős környezetek kapcsán egyszerűen muszáj beszélni. Konferenciánkon a cloud és az összes vonatkozó aspektusa kerül terítékre. \nA felhő kérdéskörét természetesen az IT-biztonsági aggályok mentén is megvizsgáljuk\, és nem mehetünk el szó nélkül a hazai piacra zúduló kiberbiztonsági támadások mellett sem. A mesterséges intelligencia sem hiányozhat a felsorolásból\, a felhős megoldások kapcsán – dinamikus skálázás\, gépi tanulási rendszerek\, integráció\, valós idejű adatfeldolgozás\, egyszóval minden\, ami a felhő és mesterséges intelligencia vonatkozásában felmerülhet. \nMivel pedig mindennek a hajtómotorja az adat\, ezért alámerülünk adatmenedzsment\, az adatminőség a data governance és data mesh világába\, ahonnan a data ownership sem maradhatnak ki. Hiszen aki nagy szeletet akar kiharapni a piacból az elkövetkező években\, annak rendet kell tenni az adatai háza táján. Ehhez adunk gyakorlati muníciókat. \nIdén az űr sem maradhat ki a konferencia témarepertoárjából\, hiszen a több mint két éve elfogadott űrstratégia és az azóta eltelt hosszú évek munkája\, egyre inkább kezd láthatóvá válni. Az már erősen körvonalazódott\, hogy az űripar meghatározó ágazattá kezd válni világszinten is. \nKonferenciánkon arra igyekszünk válaszolni\, hogy mi a magyar űrstratégia célja\, milyen irányvonalon halad 2035-ig? Lesz-e magyar űrhajós az űrben és Magyarország valóban meghatározó szereplője lehet-e az űrversenynek a régióban? \nA technológiai innovációk mögött álló embert sem hagyjuk ki a sorból. Humán blokkunkban a Z-generáció munkahelyi megjelenéséről és a dinamikus szemlélettel érkező ifjú titánok alkalmazásának előnyéről beszélgetünk majd. Ahogy az agy és a mesterséges intelligencia kapcsolata is terítékre kerül.
URL:https://kibernaptar.hu/esemeny/it-experts-tech-leaders-2024-felho-a-javabol-konferencia/
LOCATION:Park Inn By Radisson Zalakaros\, Zalakaros\, Üdülő sor 1\, 8749\, Zalakaros\, 7849\, Magyarország
CATEGORIES:Szakmai Fórum
ATTACH;FMTTYPE=image/jpeg:https://kibernaptar.hu/wp-content/uploads/2024/09/Bannerek-FB-1.jpg
ORGANIZER;CN="ICT Global":MAILTO:zsurban@ictglobal.hu
END:VEVENT
BEGIN:VEVENT
DTSTART;TZID=Europe/Budapest:20240925T000000
DTEND;TZID=Europe/Budapest:20240925T235959
DTSTAMP:20260420T032613
CREATED:20240527T085823Z
LAST-MODIFIED:20240607T103419Z
UID:10000069-1727222400-1727308799@kibernaptar.hu
SUMMARY:ITBN Conf-Expo
DESCRIPTION:Az ITBN mára már egy fogalom a szakmában. Az út 2004-ben kezdődött\, amikor a magyar IT-szakma szereplőinek a fejéből kipattant egy ötlet\, életre hívnak egy olyan független szakmai fórumot\, amely képviseli a piacon megtalálható összes szereplő és felhasználó érdekét. \nAz eredeti elképzeléseket mára meghaladtuk\, az Informatikai Biztonság Napja ugyanis az innovációk és új termékek első bemutató helyévé is vált. A konferencián neves előadók ismertetik a szektort meghatározó jogi\, gazdasági\, illetve a területre hatással levő szakmai és felügyeleti szervezetek aktuális álláspontját\, mindezt érdekes\, olykor szórakoztató formába csomagolva. \nA rendezvényen mindenki jelen van\, aki számít\, így nagyszerű lehetőség az offline térben is építeni és erősíteni a kapcsolati hálód: az IT-biztonsággal kiemelt szinten foglalkozók mellett az auditorok\, biztonsági vezetők\, gyártók\, szervezeti döntéshozók\, tanácsadók\, disztribútorok\, gazdasági- és cégvezetők\, és az IT-beszerzéseket intézők is képviselik magukat évről évre. \nHihetetlen\, de idén 20 éve tartottuk az első ITBN-t. Az AI még a kanyarban sem volt\, mi már akkor az rendszerek és értékláncok biztonságán ügyködtünk\, biztosak vagyunk benne\, hogy a mai kihívásokat is meg tudjuk oldani. \nA 2024-es ITBN fókuszában a legújabb kiberbiztonsági és AI témák állnak\, különös hangsúlyt fektetve az ellátási láncokra. Idei mottónk: „value chAIned!”. Inspiráló előadások és dinamikus beszélgetések során olyan kérdéseket érintünk\, mint: \nA dark weben tanulva megszülethet-e az ördögi AI? NIS2 kapcsán milyen feladatokkal küzdöttek meg a cégek? – Kendőzetlenül\, őszintén a NIS2 felkészülési projektekről. Pár éven belül elérkezhet a jelszó nélküli világ? Mit tud kezdeni az igazságszolgáltatás olyan incidensekkel\, amikre még nem léteznek jogszabályok? Témáink között szerepel még az emberi munka értékének változása\, az AI munkahelyi használata\, valamint az AI térnyerésének hatása az üzleti tervezésre. \nKeynote előadónk lesz Max Schrems az „adatvédelmi Robin Hood\, osztrák adatvédelmi aktivista\, a digitális jogok úttörője\, találkozz vele személyesen! \nVárunk szeptember 25-én a Lumin8 rendezvényközpontban\, hogy közösen formáljuk a jövő biztonságos digitális világát! \nA feltüntetett jegyár az Áfát nem tartalmazza!
URL:https://kibernaptar.hu/esemeny/itbn-conf-expo/
LOCATION:Lumin8 rendezvényközpont\, BÉCSI ÚT 38-44.\, BUDAPEST\, 1036
CATEGORIES:Kiberhónap2024
ATTACH;FMTTYPE=image/jpeg:https://kibernaptar.hu/wp-content/uploads/2024/05/itbn2024_linkedin_1200x628_v2.jpg
ORGANIZER;CN="Keleti Arthur":MAILTO:info@itbn.hu
END:VEVENT
BEGIN:VEVENT
DTSTART;TZID=Europe/Budapest:20240926T000000
DTEND;TZID=Europe/Budapest:20240927T235959
DTSTAMP:20260420T032613
CREATED:20240710T102113Z
LAST-MODIFIED:20240710T102113Z
UID:10000079-1727308800-1727481599@kibernaptar.hu
SUMMARY:European Cybersecurity Skills Conference
DESCRIPTION:Idén az Európai Kiberbiztonsági Szakértői Konferenciát az EU Tanácsának magyar elnöksége égisze alatt Budapesten\, Magyarországon kerül megrendezésre. Az esemény platformot biztosít a tapasztalatcserére\, a kihívások kezelésére és a legjobb gyakorlatok megosztására.\nA konferencia bemutatja továbbá az ENISA Európai Kiberbiztonsági Készség Keretrendszerének (ECSF- https://www.enisa.europa.eu/topics/education/european-cybersecurity-skills-framework) jövőbeli irányait\, valamint megosztásra kerülnek az Európai Bizottság és a tagállamok Cybersecurity Skills Academyben (https://digital-skills-jobs.europa.eu/en/cybersecurity-skills-academy) nyújtott tevékenységei. \nA megvitatásra kerülő legfontosabb témák a következők:\n– A kiberbiztonság kialakulóban lévő szabályozási kerete és annak hatása a készségekre;\n– Tapasztalatcsere a készségfejlesztés terén;\n– Az ECSF jövője;\n– Kapacitásépítési tevékenységek az EU-ban és a tagjelölt országokban;\n– A kiberbiztonsági készségekkel kapcsolatos együttműködések;\n– Készséghiány mérése és a tendenciák azonosítása az EU-ban.
URL:https://kibernaptar.hu/esemeny/european-cybersecurity-skills-conference/
LOCATION:Millenáris Park\, Kis Rókus u. 16-20\, Budapest\, 1024
CATEGORIES:Nemzetközi konferencia
ATTACH;FMTTYPE=image/jpeg:https://kibernaptar.hu/wp-content/uploads/2024/07/ENISA_ECSF24_01SAVETD_V02.jpg
ORGANIZER;CN="Nemzetbiztons%C3%A1gi Szakszolg%C3%A1lat Nemzeti Kiberbiztons%C3%A1gi Int%C3%A9zet":MAILTO:titkarsag@nki.gov.hu
END:VEVENT
END:VCALENDAR