BEGIN:VCALENDAR
VERSION:2.0
PRODID:-//Kibernaptár - ECPv6.15.20//NONSGML v1.0//EN
CALSCALE:GREGORIAN
METHOD:PUBLISH
X-ORIGINAL-URL:https://kibernaptar.hu
X-WR-CALDESC:Események Kibernaptár
REFRESH-INTERVAL;VALUE=DURATION:PT1H
X-Robots-Tag:noindex
X-PUBLISHED-TTL:PT1H
BEGIN:VTIMEZONE
TZID:Europe/Budapest
BEGIN:DAYLIGHT
TZOFFSETFROM:+0100
TZOFFSETTO:+0200
TZNAME:CEST
DTSTART:20230326T010000
END:DAYLIGHT
BEGIN:STANDARD
TZOFFSETFROM:+0200
TZOFFSETTO:+0100
TZNAME:CET
DTSTART:20231029T010000
END:STANDARD
BEGIN:DAYLIGHT
TZOFFSETFROM:+0100
TZOFFSETTO:+0200
TZNAME:CEST
DTSTART:20240331T010000
END:DAYLIGHT
BEGIN:STANDARD
TZOFFSETFROM:+0200
TZOFFSETTO:+0100
TZNAME:CET
DTSTART:20241027T010000
END:STANDARD
BEGIN:DAYLIGHT
TZOFFSETFROM:+0100
TZOFFSETTO:+0200
TZNAME:CEST
DTSTART:20250330T010000
END:DAYLIGHT
BEGIN:STANDARD
TZOFFSETFROM:+0200
TZOFFSETTO:+0100
TZNAME:CET
DTSTART:20251026T010000
END:STANDARD
END:VTIMEZONE
BEGIN:VEVENT
DTSTART;TZID=Europe/Budapest:20241105T000000
DTEND;TZID=Europe/Budapest:20241106T235959
DTSTAMP:20260420T002807
CREATED:20240906T102950Z
LAST-MODIFIED:20240906T102950Z
UID:10000097-1730764800-1730937599@kibernaptar.hu
SUMMARY:HTE Infokom 2024
DESCRIPTION:2024. november 5-6-án\, 26. alkalommal kerül megrendezésre a Hírközlési és Informatikai Tudományos Egyesület szervezésében HTE Infokom 2024. \nA rendezvény széleskörűen foglalkozik az infokommunikáció (távközlés\, informatika és média) aktuális műszaki\, piaci és szabályozási kérdéseivel. \nA konferencia célja\, hogy lehetőséget teremtsen az infokommunikációs piac változásainak megismerésére\, a legújabb műszaki megoldások\, hálózat-\, szolgáltatás- és alkalmazásfejlesztési elképzelések közzétételére\, a tapasztalatok kicserélésére\, az együttműködés elmélyítésére\, a személyes és közvetlen kapcsolatok kialakítására. \nA konferencia plenáris szekcióval indul\, majd párhuzamos szekciókban zajlanak az előadások.\nA rendezvény ideje alatt a hazai infokommunikáció területén működő vállalatok és szervezetek kiállítóként is bemutatkoznak.
URL:https://kibernaptar.hu/esemeny/hte-infokom-2024/
LOCATION:3233 Mátraháza\, Ózon u. 1.\, Mátraháza\, Ózon u. 1.\, 3233\, Magyarország
CATEGORIES:Egyéb
ATTACH;FMTTYPE=image/jpeg:https://kibernaptar.hu/wp-content/uploads/2024/09/honlap_csikkep-scaled.jpg
ORGANIZER;CN="H%C3%ADrk%C3%B6zl%C3%A9si %C3%A9s Informatikai Tudom%C3%A1nyos Egyes%C3%BClet":MAILTO:info@hte.hu
END:VEVENT
BEGIN:VEVENT
DTSTART;TZID=Europe/Budapest:20241107T000000
DTEND;TZID=Europe/Budapest:20241108T235959
DTSTAMP:20260420T002807
CREATED:20240906T102223Z
LAST-MODIFIED:20240906T102223Z
UID:10000096-1730937600-1731110399@kibernaptar.hu
SUMMARY:FUTURE IT-AI SECURITY konferencia
DESCRIPTION:Bármerre nézünk a világban az informatika mindenhol ott van – ma már nincs egyetlen szelete sem az üzletnek\, ahol ne lenne jelen legalább egy „új technológia”. Sőt\, olyan rohamléptekben jelennek meg az újabbnál újabb megoldások\, hogy ami tavaly még csak a távoli víziónak tűnt\, az mára megszokottá vált – akár értjük a működését\, akár nem. Így óhatatlanul\, szinte hónapról-hónapra újra rajzolódik a cégek fenyegetettségi térképe\, ami viszont változatlanul sok figyelmet követel lehetőség és fenyegetettség szintjén is\, az a mesterséges intelligencia. \nNem véletlen\, hogy konferenciánk hívószava az AI Security. \nNovemberben minden az AI-ról fog szólni: megvizsgáljuk az AI szerepét a védelemben\, úgy mint a fenyegetés-felderítésben és a kockázat-elemzésben\, a kiberbiztonsági események automatikus azonosításában és a válaszlépésben. De feltérképezzük az AI rendszerek biztonsági kihívásait és azt is\, mire használják az AI-t a kibertámadók. \nA szabályozási kérdések is etikai dilemmák is teret kapnak – a maga komplexitásában merülünk alá mindennek\, ami AI security.
URL:https://kibernaptar.hu/esemeny/future-it-ai-security-konferencia/
LOCATION:Dorothea Hotel\, Budapest\, Budapest\, Dorottya u. 2\, 1051\, Budapest\, 1051\, Magyarország
CATEGORIES:Nemzetközi konferencia
ATTACH;FMTTYPE=image/jpeg:https://kibernaptar.hu/wp-content/uploads/2024/09/Banner_FB-jav02.jpg
ORGANIZER;CN="ICT global":MAILTO:zsurban67@gmail.com
END:VEVENT
BEGIN:VEVENT
DTSTART;TZID=Europe/Budapest:20241107T000000
DTEND;TZID=Europe/Budapest:20241108T235959
DTSTAMP:20260420T002807
CREATED:20240930T045629Z
LAST-MODIFIED:20240930T045629Z
UID:10000108-1730937600-1731110399@kibernaptar.hu
SUMMARY:ICCECIP 2024 6th International Conference on Central European Critical Infrastructure Protection
DESCRIPTION:The „ICCECIP 2024—6th International Conference on Central European Critical Infrastructure Protection” will be held this year as part of the Hungarian Science Festival in personal form in Óbuda University Bánki Donát Faculty of Mechanical and Safety Engineering on 7-8 November 2024. The weather conditions of recent years have shown the importance of water\, a prominent element of critical infrastructure in everyday life. Water\, the constituent of living organisms\, can be both a blessing and a curse. A lot of water can appear as a devastating price\, while a lack of water can cause drought and famine. \nThe new motto of this year’s conference is “Water as a cardinal area of critical infrastructure protection.” \nThe key goal is to highlight the unity of our region and give space for all researchers around the World\, experienced and young researchers\, and PhD students to share their latest results for the public. The region’s common historical and cultural past\, as well as the common development path of the last centuries of continuous cooperation\, connects our countries and lays the foundations for future common goals. The ICCECIP 2024 also serves to foster communication among researchers and engineers working in a wide variety of scientific areas with a common interest. The meeting will provide an opportunity to highlight recent developments and identify emerging and future growth areas in this exciting field. Also\, the conference program includes oral presentations and poster sessions from scientists working in similar areas to establish a platform for collaborative research projects in this field.
URL:https://kibernaptar.hu/esemeny/iccecip-2024-6th-international-conference-on-central-european-critical-infrastructure-protection/
LOCATION:Óbudai Egyetem Bánki Donát Gépész és Biztonságtechnikai Mérnöki Kar\, József krt. 6.\, Budapest\, 1081
CATEGORIES:Nemzetközi konferencia
ATTACH;FMTTYPE=image/png:https://kibernaptar.hu/wp-content/uploads/2024/09/iccecip_2024.png
END:VEVENT
BEGIN:VEVENT
DTSTART;TZID=Europe/Budapest:20241120T093000
DTEND;TZID=Europe/Budapest:20241120T130000
DTSTAMP:20260420T002807
CREATED:20240930T045003Z
LAST-MODIFIED:20240930T045003Z
UID:10000107-1732095000-1732107600@kibernaptar.hu
SUMMARY:Hétpecsét Információbiztonsági Egyesület - 2024. november 20-i fórum
DESCRIPTION:A Hétpecsét Információbiztonsági Egyesület minden páratlan hónap harmadik szerdáján tartja fórumait – kivéve a hetediket a júliust. \nA novemberi fórum részletes programját még csak tervezzük\, de ha az előadók elfogadják a felkérést a szeptemberihez hasonló érdekes témákkal találkozhatunk.
URL:https://kibernaptar.hu/esemeny/hetpecset-informaciobiztonsagi-egyesulet-2024-november-20-i-forum/
CATEGORIES:Szakmai Fórum
ATTACH;FMTTYPE=image/jpeg:https://kibernaptar.hu/wp-content/uploads/2024/09/logo_7.jpg
END:VEVENT
END:VCALENDAR