BEGIN:VCALENDAR
VERSION:2.0
PRODID:-//Kibernaptár - ECPv6.15.20//NONSGML v1.0//EN
CALSCALE:GREGORIAN
METHOD:PUBLISH
X-ORIGINAL-URL:https://kibernaptar.hu
X-WR-CALDESC:Események Kibernaptár
REFRESH-INTERVAL;VALUE=DURATION:PT1H
X-Robots-Tag:noindex
X-PUBLISHED-TTL:PT1H
BEGIN:VTIMEZONE
TZID:Europe/Budapest
BEGIN:DAYLIGHT
TZOFFSETFROM:+0100
TZOFFSETTO:+0200
TZNAME:CEST
DTSTART:20240331T010000
END:DAYLIGHT
BEGIN:STANDARD
TZOFFSETFROM:+0200
TZOFFSETTO:+0100
TZNAME:CET
DTSTART:20241027T010000
END:STANDARD
BEGIN:DAYLIGHT
TZOFFSETFROM:+0100
TZOFFSETTO:+0200
TZNAME:CEST
DTSTART:20250330T010000
END:DAYLIGHT
BEGIN:STANDARD
TZOFFSETFROM:+0200
TZOFFSETTO:+0100
TZNAME:CET
DTSTART:20251026T010000
END:STANDARD
BEGIN:DAYLIGHT
TZOFFSETFROM:+0100
TZOFFSETTO:+0200
TZNAME:CEST
DTSTART:20260329T010000
END:DAYLIGHT
BEGIN:STANDARD
TZOFFSETFROM:+0200
TZOFFSETTO:+0100
TZNAME:CET
DTSTART:20261025T010000
END:STANDARD
END:VTIMEZONE
BEGIN:VEVENT
DTSTART;TZID=Europe/Budapest:20250605T083000
DTEND;TZID=Europe/Budapest:20250605T223000
DTSTAMP:20260419T143217
CREATED:20250429T104002Z
LAST-MODIFIED:20250429T104002Z
UID:10000151-1749112200-1749162600@kibernaptar.hu
SUMMARY:RelNet Partnernap 2025
DESCRIPTION:Szeretettel várjuk június 5-én viszonteladó és végfelhasználó partnereinket\, valamint gyártóinkat az idei RelNet Partnernapon! Izgalmas szakmai előadásokkal\, kötetlen kikapcsolódással és élménydús esti programmal készülünk Budapest egyik legszebb zöldövezetében. \nDátum: 2025. június 5. (csütörtök) \nHelyszín: Normafa Rendezvényház (1121 Budapest\, Hegyhát út 16.) \nAz esemény során a Normafa Rendezvényház hangulatos környezetében lehetőség lesz szakmai tájékozódásra és kapcsolatépítésre\, de kikapcsolódással\, finom ételekkel és italokkal\, valamint egy felejthetetlen koncertélménnyel is várjuk a vendégeinket! \nTervezett program: \n08:30-09:00 Érkezés\, regisztráció \n09:00-09:40 Nyitóelőadás a RelNet munkatársától \n09:40-12:30 Délelőtti gyártói és vendégelőadások (20 perces blokkok\, kávészünetekkel) \n12:30-13:30 Ebéd \n13:30-16:00 Délutáni gyártói és vendégelőadások (20 perces blokkok\, kávészünetekkel) \n16:00-17:00 Kikapcsolódás\, kötetlen beszélgetések (részletek hamarosan!) \n18:00-20:00 Svédasztalos vacsora \n20:00-21:30 Péterfy Bori & Love Band – élő koncert \n21:30-23:00 Buli \nFontos: A tervezett programot rendszeresen frissítjük\, ezért javasoljuk\, hogy látogass vissza erre az oldalra többször is! A változtatás jogát fenntartjuk. \nRegisztráció \nA regisztráció már elérhető honlapunkon. Jelentkezz mihamarabb\, hogy biztosítsd helyed az év egyik legnépszerűbb partneri eseményén! \nKérjük\, mentsd el a naptáradba a június 5-i dátumot\, vagy – miután bejelentkeztél a honlapunkra – regisztrálj a „Jelentkezés a rendezvényre” gombra kattintva. \nTöltsünk el újra együtt egy hasznos és emlékezetes napot 2025. június 5-én! \nMEGKÖZELÍTÉS \nAutóval: Eötvös út – Hegyhát út vagy Széchenyi emlékút-Hegyhát út. A parkolás a rendezvényház\, illetve a kisvasút parkolójában\, valamint a környező utcákban is ingyenes. \nBKK: Fogaskerekű Széchenyi-hegy végállomás vagy a 21-es busz Ordas úti megállója.
URL:https://kibernaptar.hu/esemeny/relnet-partnernap-2025/
LOCATION:Normafa Rendezvényház\, Hegyhát út 16\, Budapest\, 1121
CATEGORIES:zártkörű esemény
ATTACH;FMTTYPE=image/jpeg:https://kibernaptar.hu/wp-content/uploads/2025/04/Partnernap2025-min-768x410-1.jpg
ORGANIZER;CN="RelNet Technol%C3%B3gia Kft.":MAILTO:info@relnet.hu
END:VEVENT
BEGIN:VEVENT
DTSTART;TZID=Europe/Budapest:20250630T090000
DTEND;TZID=Europe/Budapest:20250630T170000
DTSTAMP:20260419T143217
CREATED:20250610T085930Z
LAST-MODIFIED:20250714T084118Z
UID:10000166-1751274000-1751302800@kibernaptar.hu
SUMMARY:Elektronikus aláírás napja
DESCRIPTION:A Magyar Elektronikus Aláírás Szövetség (MELASZ)\, az INTEGRITY Kft. és a Számítástechnikai és Automatizálási Kutatóintézet (SZTAKI)\, valamint az Internet Szolgáltatók Tanácsa (ISZT) hagyományteremtő szándékkal útjára indítja az “Elektronikus aláírás napja” rendezvényt. \nA szervezők célja az\, hogy\n– Magyarországon is legyen lehetőség az elektronikus aláírás népszerűsítésére minél szélesebb körben\,\n– az aláírásokkal kapcsolatos aktuális\, szakmai ismeretek felhasználóbarát módon hozzáférhetőek legyenek\, továbbá\n– jöjjön létre egy olyan fórum\, ahol minden érdeklődő a számára szükséges információhoz első kézből hozzájuthat. \nAz előadások felölelik az elektronikus aláírási terület történeti áttekintését\, valamint az elmúlt években bekövetkezett jogi és technológiai változásokat. Minden évben aktuális érdekességek lesznek bemutatva az elektronikus aláírások területéről\, és bepillantást lehet nyerni a jövőben várható megoldások világába is. A megbízható gazdaság egyik alappillérének számító elektronikus hitelesítési\, aláírási\, és bélyegzési technológiák terén folyamatosan zajlanak kutatási-fejlesztési tevékenységek. 2025-ben a témák várhatóan az eIDAS2 körül forognak különböző szinteken. Várható előadás az elkészült vagy épp készülés alatt lévő implementációs rendeletekről\, a magyar jogszabályokról\, azok implementálásáról\, és a DÁP-ról is.
URL:https://kibernaptar.hu/esemeny/elektronikus-alairas-napja/
LOCATION:HUN-REN SZTAKI Kende Nagytanács\, Kende u. 13-17\, Budapest\, 1111
CATEGORIES:Egyéb,Szakmai Fórum
ATTACH;FMTTYPE=image/png:https://kibernaptar.hu/wp-content/uploads/2025/06/MEAN.png
ORGANIZER;CN="Magyar Elektronikus Al%C3%A1%C3%ADr%C3%A1s Sz%C3%B6vets%C3%A9g - MELASZ":MAILTO:elnokseg@melasz.hu
END:VEVENT
END:VCALENDAR