BEGIN:VCALENDAR
VERSION:2.0
PRODID:-//Kibernaptár - ECPv6.15.20//NONSGML v1.0//EN
CALSCALE:GREGORIAN
METHOD:PUBLISH
X-WR-CALNAME:Kibernaptár
X-ORIGINAL-URL:https://kibernaptar.hu
X-WR-CALDESC:Események Kibernaptár
REFRESH-INTERVAL;VALUE=DURATION:PT1H
X-Robots-Tag:noindex
X-PUBLISHED-TTL:PT1H
BEGIN:VTIMEZONE
TZID:Europe/Budapest
BEGIN:DAYLIGHT
TZOFFSETFROM:+0100
TZOFFSETTO:+0200
TZNAME:CEST
DTSTART:20240331T010000
END:DAYLIGHT
BEGIN:STANDARD
TZOFFSETFROM:+0200
TZOFFSETTO:+0100
TZNAME:CET
DTSTART:20241027T010000
END:STANDARD
BEGIN:DAYLIGHT
TZOFFSETFROM:+0100
TZOFFSETTO:+0200
TZNAME:CEST
DTSTART:20250330T010000
END:DAYLIGHT
BEGIN:STANDARD
TZOFFSETFROM:+0200
TZOFFSETTO:+0100
TZNAME:CET
DTSTART:20251026T010000
END:STANDARD
BEGIN:DAYLIGHT
TZOFFSETFROM:+0100
TZOFFSETTO:+0200
TZNAME:CEST
DTSTART:20260329T010000
END:DAYLIGHT
BEGIN:STANDARD
TZOFFSETFROM:+0200
TZOFFSETTO:+0100
TZNAME:CET
DTSTART:20261025T010000
END:STANDARD
END:VTIMEZONE
BEGIN:VEVENT
DTSTART;TZID=Europe/Budapest:20250417T080000
DTEND;TZID=Europe/Budapest:20250417T133000
DTSTAMP:20260419T201348
CREATED:20250325T064910Z
LAST-MODIFIED:20250325T064910Z
UID:10000141-1744876800-1744896600@kibernaptar.hu
SUMMARY:Incidenskezelés - esemény előtt vagy után? NMHH\, EIVOK-60 tudományos konferencia
DESCRIPTION:A konferencia a HTE Információbiztonsági Szakosztály – EIVOK és a Nemzeti Média- és Hírközlési Hatóság szervezésében kerül megtartásra\, amely egyben az EIVOK 60. szakmai eseménye is. \nIdőpont: 2025. március 27. 17:00\nForma: hibrid\nHelyszín: Nemzeti Média- és Hírközlési Hatóság – Rendezvényközpont (100 fő részére) Budapest\, 1133. Esztergomi út 9. (az online résztvevőknek az NMHH YouTube közvetítés linkje a regisztráció alapján\, a konferencia napján kerül megküldésre) \nProgram: \n08:00 – 08:30\nREGISZTRÁCIÓ \n08:30 – 08:50 MEGNYITÓ\nDr. Vári Péter NMHH\, főigazgató-helyettes\nProf. Dr. Kovács László NKE\, tudományos rektorhelyettes\nDr. Magyar Sándor HTE-EIVOK\, elnök \nPANEL I.\nLevezető elnök: Dr. Magyar Sándor HTE-EIVOK\, elnök \n08:50 – 09:05\nIncidenskezelés! De miből?\nNémeth Attila NBSZ\, főigazgató-helyettes \n09:05 – 09:20\nHogyan segít az Internet Hotline?\nDr. Csalár Dorina NMHH\, Internet Hotline osztályvezető \n09:20 – 09:35 Az incidenskezelés új korszaka?\nMarsi Tamás NBSZ-NKI\, főosztályvezető \n09:35 – 09:50 Ctrl+Alt+Defend – Incidensmenedzsment az egyetemen\nNémeth Márton NKE\, információbiztonsági vezető / CISO \n09:50 – 10:05 Egy malware kalandjai az NMHH-nál\nBarczi Tamás NMHH IT\, biztonsági munkatárs \n10:05 – 10:20 Incidenskezezelés speciális szemszögből\nDr. Kucsera Erika NKE\, KNIFÁT kiberbiztonsági főtanácsadó \n10:20 – 10:35 Mélytanulási módszerek az incidensek felderítésében\nVágujhelyi Ferenc HTE\, elnök \n10:35 – 11:10 KÁVÉSZÜNET \nPANEL II.\nLevezető elnök: Dr. Tóth András HTE-EIVOK\, alelnök \n11:10 – 11:25 Az rendben\, hogy akarsz. De tudsz beszélni róla?\nVereckei Béla Pro-M Zrt.\, biztonsági igazgató \n11:25 – 11:40 Incidenskezelés egy rendszerintegrátornál\nBódis Péter SMP Solutions Zrt.\, IT Biztonsági vezető /CISO \n11:40 – 12:10\nKerekasztal-1: Lehet-e rutinból kezelni az információbiztonsági incidenseket?\nGábriel Gábor 4IG Nyrt.\, Senior Architect\nHlavaty Győző Magyar Telekom Nyrt.\, SOC központ vezető\nKorvin András Gábor OTP Bank Nyrt.\, Kibervédelmi Központ osztályvezető\nMarsi Tamás NBSZ NKI\, főosztályvezető \nModerátor: Dr. Magyar Sándor HTE-EIVOK\, elnök \n12:10 – 12:50 KÁVÉSZÜNET \nPANEL III.\nLevezető elnök: Oláh István HTE-EIVOK\, alelnök \n12:50 – 13:05 Az eseménykezelés jelene és jövője\nGyebnár Gergő Black Cell Magyarország Kft.\, ügyvezető igazgató \n13:05 – 13:20 Incidenskezelés? Mire észbe kap\, már késő!\nBonifert Tamás NETI Informatikai Tanácsadó Kft.\, információbiztonsági igazgató \n13:20 – 13:35 SOC az új határ(védelem)?\nKovács Zoltán Cisco Systems Magyarország Kft.\, cybersecurity specialist \n13:35 – 14:05\nKerekasztal-2: Mitől jó egy incidenskezelési folyamat?\nZámbó Marcell Andrews IT Engineering Kft.\, SOC vezető\nSzabó Gábor EUROONE Zrt.\, SOC vezető tanácsadó\nOroszi Eszter Diána Silent Signal Kft.\, Információbiztonsági üzletágvezető\nFöldi Gyula Valkyr Kft.\, SOC csoportvezető\nDr. Magyar Sándor HTE-EIVOK\, elnök \nModerátor: Lencsés Gábor NMHH\, informatikai igazgató \nZÁRÓ GONDOLATOK \n14:05 – 14:20\nLencsés Gábor NMHH\, informatikai igazgató\nDr. Magyar Sándor HTE-EIVOK\, elnök \nA rendezvény ingyenes\, de regisztrációhoz kötött\, jelentkezni az alábbi linken lehet: \nhttps://ludevent.uni-nke.hu/event/4870/ \nISACA CPE pontszerzési lehetőség!\nAz előadáson való részvétel esetén 6 CPE pont szerezhető. \nKonferencia szervezőbizottságának társelnökei:\nDr. Magyar Sándor\nLencsés Gábor\nOláh István \nKonferencia szervezőbizottságának tagjai:\nBor Olivér\nDr. Bányász Péter\nBányász-Váczi Kincső Boróka\nBuga Ferenc\nDr. Falyuna Nóra\nOrbók Ákos\nDr. Tóth András
URL:https://kibernaptar.hu/esemeny/incidenskezeles-esemeny-elott-vagy-utan-nmhh-eivok-60-tudomanyos-konferencia/
LOCATION:Nemzeti Média- és Hírközlési Hatóság- Rendezvényközpont\, Esztergomi u. 9.\, Budapest\, 1133\, Hungary
CATEGORIES:Szakmai Fórum
ATTACH;FMTTYPE=image/png:https://kibernaptar.hu/wp-content/uploads/2025/03/EIVOK-60_kimeno.png
ORGANIZER;CN="EIVOK%2C  HTE Inform%C3%A1ci%C3%B3biztons%C3%A1gi Szakoszt%C3%A1ly":MAILTO:eivok@hte.hu
END:VEVENT
END:VCALENDAR