BEGIN:VCALENDAR
VERSION:2.0
PRODID:-//Kibernaptár - ECPv6.15.20//NONSGML v1.0//EN
CALSCALE:GREGORIAN
METHOD:PUBLISH
X-WR-CALNAME:Kibernaptár
X-ORIGINAL-URL:https://kibernaptar.hu
X-WR-CALDESC:Események Kibernaptár
REFRESH-INTERVAL;VALUE=DURATION:PT1H
X-Robots-Tag:noindex
X-PUBLISHED-TTL:PT1H
BEGIN:VTIMEZONE
TZID:Europe/Budapest
BEGIN:DAYLIGHT
TZOFFSETFROM:+0100
TZOFFSETTO:+0200
TZNAME:CEST
DTSTART:20240331T010000
END:DAYLIGHT
BEGIN:STANDARD
TZOFFSETFROM:+0200
TZOFFSETTO:+0100
TZNAME:CET
DTSTART:20241027T010000
END:STANDARD
BEGIN:DAYLIGHT
TZOFFSETFROM:+0100
TZOFFSETTO:+0200
TZNAME:CEST
DTSTART:20250330T010000
END:DAYLIGHT
BEGIN:STANDARD
TZOFFSETFROM:+0200
TZOFFSETTO:+0100
TZNAME:CET
DTSTART:20251026T010000
END:STANDARD
BEGIN:DAYLIGHT
TZOFFSETFROM:+0100
TZOFFSETTO:+0200
TZNAME:CEST
DTSTART:20260329T010000
END:DAYLIGHT
BEGIN:STANDARD
TZOFFSETFROM:+0200
TZOFFSETTO:+0100
TZNAME:CET
DTSTART:20261025T010000
END:STANDARD
END:VTIMEZONE
BEGIN:VEVENT
DTSTART;TZID=Europe/Budapest:20250424T120000
DTEND;TZID=Europe/Budapest:20250426T140000
DTSTAMP:20260419T184612
CREATED:20250331T053637Z
LAST-MODIFIED:20250331T053637Z
UID:10000143-1745496000-1745676000@kibernaptar.hu
SUMMARY:Info Éra 2025 - Zsakó László emlékkonferencia. EIVOK Szekció
DESCRIPTION:A digitális kultúra és az informatika oktatásának módszertana és szabályzói a köznevelésben továbbképzés.\n\nAz 1991 óta megrendezésre kerülő konferencia/továbbképzés alap témája az „Informatika az oktatásban„. Kategóriájában hazánk legnagyobb és legrégebbi rendezvénye. Konferencia jellegű továbbképzés kisiskolás (óvodás) kortól a felsőoktatásig terjedő oktatásról\, de alapvetően a közoktatásra koncentrálva pedagógusok\, tanárok\, rendszergazdák\, egyetemi hallgatók\, iskolai vezetők számára.
URL:https://kibernaptar.hu/esemeny/info-era-2025-zsako-laszlo-emlekkonferencia-eivok-szekcio/
LOCATION:Béke Hotel\, Mátyás király stny. 10\, Hajdúszoboszló\, 4200
CATEGORIES:Szakmai Fórum
ATTACH;FMTTYPE=image/png:https://kibernaptar.hu/wp-content/uploads/2025/03/EIIVOK-INFOERA.png
ORGANIZER;CN="EIVOK%2C  HTE Inform%C3%A1ci%C3%B3biztons%C3%A1gi Szakoszt%C3%A1ly":MAILTO:eivok@hte.hu
END:VEVENT
END:VCALENDAR