BEGIN:VCALENDAR
VERSION:2.0
PRODID:-//Kibernaptár - ECPv6.15.20//NONSGML v1.0//EN
CALSCALE:GREGORIAN
METHOD:PUBLISH
X-ORIGINAL-URL:https://kibernaptar.hu
X-WR-CALDESC:Események Kibernaptár
REFRESH-INTERVAL;VALUE=DURATION:PT1H
X-Robots-Tag:noindex
X-PUBLISHED-TTL:PT1H
BEGIN:VTIMEZONE
TZID:Europe/Budapest
BEGIN:DAYLIGHT
TZOFFSETFROM:+0100
TZOFFSETTO:+0200
TZNAME:CEST
DTSTART:20240331T010000
END:DAYLIGHT
BEGIN:STANDARD
TZOFFSETFROM:+0200
TZOFFSETTO:+0100
TZNAME:CET
DTSTART:20241027T010000
END:STANDARD
BEGIN:DAYLIGHT
TZOFFSETFROM:+0100
TZOFFSETTO:+0200
TZNAME:CEST
DTSTART:20250330T010000
END:DAYLIGHT
BEGIN:STANDARD
TZOFFSETFROM:+0200
TZOFFSETTO:+0100
TZNAME:CET
DTSTART:20251026T010000
END:STANDARD
BEGIN:DAYLIGHT
TZOFFSETFROM:+0100
TZOFFSETTO:+0200
TZNAME:CEST
DTSTART:20260329T010000
END:DAYLIGHT
BEGIN:STANDARD
TZOFFSETFROM:+0200
TZOFFSETTO:+0100
TZNAME:CET
DTSTART:20261025T010000
END:STANDARD
END:VTIMEZONE
BEGIN:VEVENT
DTSTART;TZID=Europe/Budapest:20251017T140000
DTEND;TZID=Europe/Budapest:20251019T170000
DTSTAMP:20260422T041131
CREATED:20250908T090317Z
LAST-MODIFIED:20250908T090317Z
UID:10000185-1760709600-1760893200@kibernaptar.hu
SUMMARY:European Cybersecurity Hackathon 2025
DESCRIPTION:It’s an intense three-day innovation marathon where teams tackle real-world cybersecurity challenges – from IoT vulnerabilities to AI-driven attacks and critical infrastructure protection. Bring your ideas\, build prototypes\, and present your solutions to an expert jury.
URL:https://kibernaptar.hu/esemeny/european-cybersecurity-hackathon-2025/
CATEGORIES:Kiberverseny,Nemzetközi konferencia
ATTACH;FMTTYPE=image/png:https://kibernaptar.hu/wp-content/uploads/2025/09/CyberHubs-logo-Co-funded-logo-EU-disclaimer_2nd-option.png
END:VEVENT
END:VCALENDAR