BEGIN:VCALENDAR
VERSION:2.0
PRODID:-//Kibernaptár - ECPv6.15.20//NONSGML v1.0//EN
CALSCALE:GREGORIAN
METHOD:PUBLISH
X-ORIGINAL-URL:https://kibernaptar.hu
X-WR-CALDESC:Események Kibernaptár
REFRESH-INTERVAL;VALUE=DURATION:PT1H
X-Robots-Tag:noindex
X-PUBLISHED-TTL:PT1H
BEGIN:VTIMEZONE
TZID:Europe/Budapest
BEGIN:DAYLIGHT
TZOFFSETFROM:+0100
TZOFFSETTO:+0200
TZNAME:CEST
DTSTART:20240331T010000
END:DAYLIGHT
BEGIN:STANDARD
TZOFFSETFROM:+0200
TZOFFSETTO:+0100
TZNAME:CET
DTSTART:20241027T010000
END:STANDARD
BEGIN:DAYLIGHT
TZOFFSETFROM:+0100
TZOFFSETTO:+0200
TZNAME:CEST
DTSTART:20250330T010000
END:DAYLIGHT
BEGIN:STANDARD
TZOFFSETFROM:+0200
TZOFFSETTO:+0100
TZNAME:CET
DTSTART:20251026T010000
END:STANDARD
BEGIN:DAYLIGHT
TZOFFSETFROM:+0100
TZOFFSETTO:+0200
TZNAME:CEST
DTSTART:20260329T010000
END:DAYLIGHT
BEGIN:STANDARD
TZOFFSETFROM:+0200
TZOFFSETTO:+0100
TZNAME:CET
DTSTART:20261025T010000
END:STANDARD
END:VTIMEZONE
BEGIN:VEVENT
DTSTART;TZID=Europe/Budapest:20250918T140000
DTEND;TZID=Europe/Budapest:20250918T150000
DTSTAMP:20260422T093052
CREATED:20250908T052604Z
LAST-MODIFIED:20250908T052604Z
UID:10000183-1758204000-1758207600@kibernaptar.hu
SUMMARY:EU RED: Mit jelent az EU új szabályozása a Wi-Fi\, 4G/5G rádiófrekvenciás eszközökre nézve?
DESCRIPTION:Az Európai Unió a végfelhasználók biztonságának védelmében számos lépést tett a közelmúltban. Ennek egyik újabb állomása a korábbinál szigorúbb RED (Radio Equipment Directive) kiberbiztonsági szabályozás\, amelyet a gyártóknak minden rádiófrekvenciás eszközre alkalmazniuk kell 2025. augusztus 1-től. \nAz ipari hálózati berendezések egyre gyakrabban kapcsolódnak közvetlenül az internethez vagy más\, sebezhető hálózatokhoz. Az új szabályozás célja\, hogy növelje a végfelhasználók biztonságát\, csökkentse a sebezhetőségeket\, így a rádiófrekvenciás eszközök még ellenállóbbak legyenek az adatlopásokkal\, támadásokkal szemben. A RED az alapértelmezett biztonságot (security by default) és a beépített védelem (security by design) elvét írja elő. \nA szabályozásnak köszönhetően mostantól még megbízhatóbb\, biztonságosabb és fenntarthatóbb eszközök kerülnek forgalomba. \nHa olyan ipari hálózati kommunikációs eszközökre van szükséged\, amelyek megfelelnek a RED szabályozásnak\, nem kell sokáig keresgélned! A Com-Forth kiemelt beszállítói közül már többen is megtették a szükséges lépéseket\, hogy termékeik megfeleljenek az új követelményeknek. Várunk élő webinárunkon\, ahol áttekintjük ezeket a direktíva vonatkozásaiban. \nIdőpont:\n2025. szeptember 18. (csütörtök)\n14:00-15:00 \nELŐADÓINK:\nKelecsényi Péter Robustel\, Sales Director Eastern Europe\nMelegh György\, Com-Forth Kft.\, Presales & Support mérnök \nBővebb információ és regisztráció: https://info.comforth.hu/eu-red-robustel-moxa-webinar-2025-09-18
URL:https://kibernaptar.hu/esemeny/eu-red-mit-jelent-az-eu-uj-szabalyozasa-a-wi-fi-4g-5g-radiofrekvencias-eszkozokre-nezve/
LOCATION:Online
CATEGORIES:Egyéb
ATTACH;FMTTYPE=image/png:https://kibernaptar.hu/wp-content/uploads/2025/09/Com-Forth-RED-Webinar-Facebook.png
ORGANIZER;CN="Com-Forth Kft.":MAILTO:info@comforth.hu
END:VEVENT
END:VCALENDAR