BEGIN:VCALENDAR
VERSION:2.0
PRODID:-//Kibernaptár - ECPv6.15.20//NONSGML v1.0//EN
CALSCALE:GREGORIAN
METHOD:PUBLISH
X-ORIGINAL-URL:https://kibernaptar.hu
X-WR-CALDESC:Események Kibernaptár
REFRESH-INTERVAL;VALUE=DURATION:PT1H
X-Robots-Tag:noindex
X-PUBLISHED-TTL:PT1H
BEGIN:VTIMEZONE
TZID:Europe/Budapest
BEGIN:DAYLIGHT
TZOFFSETFROM:+0100
TZOFFSETTO:+0200
TZNAME:CEST
DTSTART:20230326T010000
END:DAYLIGHT
BEGIN:STANDARD
TZOFFSETFROM:+0200
TZOFFSETTO:+0100
TZNAME:CET
DTSTART:20231029T010000
END:STANDARD
BEGIN:DAYLIGHT
TZOFFSETFROM:+0100
TZOFFSETTO:+0200
TZNAME:CEST
DTSTART:20240331T010000
END:DAYLIGHT
BEGIN:STANDARD
TZOFFSETFROM:+0200
TZOFFSETTO:+0100
TZNAME:CET
DTSTART:20241027T010000
END:STANDARD
BEGIN:DAYLIGHT
TZOFFSETFROM:+0100
TZOFFSETTO:+0200
TZNAME:CEST
DTSTART:20250330T010000
END:DAYLIGHT
BEGIN:STANDARD
TZOFFSETFROM:+0200
TZOFFSETTO:+0100
TZNAME:CET
DTSTART:20251026T010000
END:STANDARD
END:VTIMEZONE
BEGIN:VEVENT
DTSTART;TZID=Europe/Budapest:20241010T000000
DTEND;TZID=Europe/Budapest:20241010T235959
DTSTAMP:20260420T023406
CREATED:20241003T075108Z
LAST-MODIFIED:20241008T122228Z
UID:10000072-1728518400-1728604799@kibernaptar.hu
SUMMARY:KiberFest
DESCRIPTION:Cél a középiskolások figyelmének felhívása a tudatos internethasználatra\, a digitális önvédelmi eszközeik tárházának fejlesztésére\, a kibertérben elkövethető bűncselekmények vonatkozásában az áldozattá és/vagy elkövetővé válás elkerülésére. \nModerátor:   Bedő Beatrix r. hadnagy (Budapesti Rendőr-főkapitányság Bűnügyi Szervek Gazdasági Bűnözés Elleni Főosztály Kiberbűnözés Elleni Osztály)\, Szecso (influenszer) \n \nProgramterv\n08:15                     Foreland zenekar előadása \n08:45                     Meglepetés performance \n08:55                     dr. Terdik Tamás r. vezérőrnagy\, Budapest rendőrfőkapitányának nyitóbeszéde \n09:00-18:30           A Ludovika Aréna sportcsarnokában az Élménytér és Tudásközpont különböző programjai \n09:00-11:00           Az emeleten KiberFest programmal párhuzamosan „Ötletelj!” workshop \n13:30                     Foreland zenekar előadása \n13:50                     „Ötletelj” legjobb projektek díjátadója \n \nÉlménytér\n„Teszteld!” \nTársasjáték\, digitális játékok\, robotika\, 360 Spinner és fotóautomata\, Multi Ball – interaktív LED falas játékrendszer\, különböző sportolási lehetőség kipróbálása. \nGamer vs. sportoló \nShowműsor elem\, ahol játékosok mérik össze a képességeiket magyar élsportolókkal\, illetve a látogatókkal. \nKözreműködők: \n\nMagyar E-sport Szövetség\nLogiscool (robotika)\nMagyar Társasjátékos Egyesület\nMagyar Szabadidősport Szövetség\n\n  \nTudásközpont\nInteraktív kiállítok \nA kibertérben elkövetett bűncselekményekkel kapcsolatos interaktív\, digitális prevenciós játékok\, kvíz\, stb.\, áldozatsegítés\, online pénzügyi tudatosság\, tehetségkutatás\, BRFK-„Bennfentes” program. \nKözreműködők: \n\nNemzeti Védelmi Szolgálat\nNemzetbiztonsági Szakszolgálat\nMagyar Nemzeti Bank\nNemzeti Média- és Hírközlési Hatóság\nMBH Bank\nSafe Internet Center\nUNICEF Magyar Bizottság\nIgazságügyi Minisztérium Áldozatsegítő Központ\nMathias Corvinus Collegium\nBudapesti Rendőr-főkapitányság Humánigazgatási Szolgálat\, Bűnügyi Szervek Gazdasági Bűnözés Elleni Főosztály Kiberbűnözés Elleni Osztály\, Bűnügyi Szervek Nyomozó Főosztály Gyermek- és Ifjúságvédelmi Osztály\nNemzeti Közszolgálati Egyetem Rendészettudományi Kar hallgatói\n\nChatszoba tükörszobában \nAz érdeklődők beszélhetnek etikus hackerrel\, AI szakértővel\, influenszerrel\, internetjogásszal\, játéktervezővel\, kutatóval\, kiberbiztonsági szakértővel\, hotline elemzővel\, pszichológussal\, rendőrrel. \nKözreműködők: Hintalovon Alapítvány\, továbbá a fentiekben felsorolt szervezetek. \n \nA rendezvény sajtónyilvános lesz. \nA rendezvény zártkörű\, a már korábban regisztrált budapesti iskolák diákjainak szól. \nOktóber a Kiberbiztonság tudatosságának hónapja\nBiztonságos digitális lét középiskolásoknak program
URL:https://kibernaptar.hu/esemeny/kiberfest/
LOCATION:Ludovika Sportcsarnok\, Diószegi Sámuel utca 19.\, Budapest\, 1089\, Hungary
CATEGORIES:Egyéb,Kiberhónap2024
ATTACH;FMTTYPE=image/png:https://kibernaptar.hu/wp-content/uploads/2024/10/kiberfest-logo@4x.png
ORGANIZER;CN="Budapesti Rend%C5%91r-f%C5%91kapit%C3%A1nys%C3%A1g B%C5%B1n%C3%BCgyi Szervek B%C5%B1nmegel%C5%91z%C3%A9si Oszt%C3%A1ly":MAILTO:bunmeg@orfk.police.hu
END:VEVENT
BEGIN:VEVENT
DTSTART;TZID=Europe/Budapest:20241015T083000
DTEND;TZID=Europe/Budapest:20241015T163000
DTSTAMP:20260420T023406
CREATED:20240805T080153Z
LAST-MODIFIED:20241014T105121Z
UID:10000082-1728981000-1729009800@kibernaptar.hu
SUMMARY:II. Alverad-Bánki Nemzetközi Kiberbiztonsági Konferencia
DESCRIPTION:Az Óbudai Egyetem Bánki Donát Gépész és Biztonságtechnikai Mérnöki Karának és az Alverad Technology Focus Kft-nek a közös szervezésében 2024. október 15-én második alkalommal rendezzük meg nemzetközi tudományos konferenciánkat\, hibrid formában. \nA konferencia nyelve magyar és angol. \nA konferencia célja\, hogy a legújabb hazai és nemzetközi kutatási eredményeket a szakértő közönség számára elérhetővé tegyük\, továbbá lehetőséget biztosítsunk a fiatal kutatók\, a PhD hallgatók számára a publikációs gyakorlat megszerzésére\, diplomamunkák eredményeinek bemutatására. \nCélunk továbbá\, hogy a társ egyetemek oktatói és hallgatói\, valamint kollégáink tudományos kapcsolatai elmélyüljenek. \nA konferencia szakmai területei: \n\nKiberbiztonság – NIS2\nKibervédelem\nOktatás és képzés\nKutatás\, fejlesztés\nDigital forensics\nMesterséges intelligencia és blokklánc\nEgészségügy\nMédia\nÚj technológiák\n\nRészletes program és az online részvételhez a linkek elérhetősége: https://bgk.uni-obuda.hu/wp-content/uploads/2024/10/II.Alverad-Banki-Kiber_Konferencia-2024-Program.pdf \nA konferencia nyilvános\, a részvétel előzetes regisztrációhoz kötött. https://bgk.uni-obuda.hu/alverad-banki-kiberkonferencia/
URL:https://kibernaptar.hu/esemeny/ii-alverad-banki-nemzetkozi-kiberbiztonsagi-konferencia/
LOCATION:Online
CATEGORIES:Kiberhónap2024,Nemzetközi konferencia,Szakmai Fórum
ATTACH;FMTTYPE=image/jpeg:https://kibernaptar.hu/wp-content/uploads/2024/08/II-Alverad-Banki-Kiberkonferencia-2024-main-image-v2_resized.jpg
ORGANIZER;CN="%C3%93budai Egyetem B%C3%A1nki Don%C3%A1t G%C3%A9p%C3%A9sz %C3%A9s Biztons%C3%A1gtechnikai M%C3%A9rn%C3%B6ki Kar %C3%A9s Alverad Technology Focus Kft.":MAILTO:baglyas.ilka@alverad.hu
END:VEVENT
BEGIN:VEVENT
DTSTART;TZID=Europe/Budapest:20241021T160000
DTEND;TZID=Europe/Budapest:20241021T180000
DTSTAMP:20260420T023406
CREATED:20240924T060603Z
LAST-MODIFIED:20240924T060603Z
UID:10000103-1729526400-1729533600@kibernaptar.hu
SUMMARY:DIGITÁLIS FÓRUM szülőknek és óvodapedagógusoknak
DESCRIPTION:Digitális megoldási stratégiák és gondolatok elvitelre… \nBeszélgetés az óvodák digitális kultúrájáról\, szabályozó dokumentumokról (házirend\, GDPR\, gyermekvédelem\, stb.)\, digitális helyzetjelentés.\nA digitális gyermekvédelem jelentősége\, a digitalizáció hatása az óvodás korosztályra.\nAz óvodai digitális pedagógiai módszertan létjogosultsága\, jógyakorlat bemutatása.\nGyermekek és családok a digitális világ hálójában.\nÓvoda és a családok kapcsolata\, online együttműködés a biztonság jegyében. \nBeszélgető szakemberek:\nDr. Baracsi Katalin internesjogász\nFarkas Tibor Jánosné igazgató ZEÓ\nDr. Fábián Henriette óvodapszichológus ZEÓ\nDr. Gaskóné Nagy Erika digitális gyermekvédelmi szakértő\nHorváth Tamásné tagintézmény-igazgató ZEÓ Óperenciás Tagóvoda\nVörös Zsuzsa KIDEA-alapító \nModerátor:\nNagy Ildikó Mária tagintézmény-igazgató\nZEÓ Csicsergő Tagóvoda\ndigitális szaktanácsadó
URL:https://kibernaptar.hu/esemeny/digitalis-forum-szuloknek-es-ovodapedagogusoknak/
LOCATION:Zuglói Civil Ház\, Csertő park 12.\, Budapest\, 1144
CATEGORIES:Szakmai Fórum
ATTACH;FMTTYPE=image/png:https://kibernaptar.hu/wp-content/uploads/2024/09/zec3b3_digitc3a1lis_fc3b3rum_2024_10_21.png
ORGANIZER;CN="Zugl%C3%B3i Egyes%C3%ADtett %C3%93voda":MAILTO:csicsergo@zugloiovoda.hu
END:VEVENT
BEGIN:VEVENT
DTSTART;TZID=Europe/Budapest:20241024T170000
DTEND;TZID=Europe/Budapest:20241024T183000
DTSTAMP:20260420T023406
CREATED:20241015T065111Z
LAST-MODIFIED:20241024T053506Z
UID:10000112-1729789200-1729794600@kibernaptar.hu
SUMMARY:NIS 2 felkészülés - Tények\, Trendek Tapasztalatok az igazságügyi informatikai szakértők nézőpontjából
DESCRIPTION:Igazságügyi informatikai szakértők kerekasztal beszélgetése arról\, hogy a NIS2 bevezetése során milyen tapasztalatokat szereztek\, milyen gyakorlati problémákat észleltek és hogy ezen a területen miként jutunk el a digitális nyomrögzítéstől a tudományos következtetésekig. \nAz eseményhez az alábbi linkeken keresztül lehet majd csatlakozni: \nhttps://teams.microsoft.com/l/meetup-join/19%3ameeting_M2M5NzU0NzktYzA1MC00MWU2LTllYmUtZWQxNDBkNTY4NDk4%40thread.v2/0?context=%7b%22Tid%22%3a%22cea28e33-0b6b-4c2c-a208-ff402705b081%22%2c%22Oid%22%3a%2203331254-36c4-4ac6-98ff-8f35f5ca33dd%22%7d \nvagy \nhttps://msteams.link/23QX
URL:https://kibernaptar.hu/esemeny/__trashed-3/
LOCATION:Online
CATEGORIES:Kiberhónap2024
END:VEVENT
BEGIN:VEVENT
DTSTART;TZID=Europe/Budapest:20241025T133000
DTEND;TZID=Europe/Budapest:20241025T160000
DTSTAMP:20260420T023406
CREATED:20241008T123012Z
LAST-MODIFIED:20241008T123012Z
UID:10000110-1729863000-1729872000@kibernaptar.hu
SUMMARY:CETIN Kiberbiztonsági Szakmai Fórum 2024
DESCRIPTION:Októberben\, a kiberbiztonság hónapjában rendez a CETIN Hungary az IVSZ-el partnerségben egy különleges szakmai fórumot\, ahol kiberbiztonsági szakértők osztják meg tapasztalataikat a NIS2 irányelvvel kapcsolatos aktuális helyzetről\, és arról\, hogy milyen lépéseket kell megtenni a megfelelés érdekében. \nEz az esemény nem csupán egy szakmai fórum\, hanem egy olyan közösség\, ahol közösen tanulunk és beszélgetünk a kiberbiztonság aktuális kihívásairól és eredményeiről. Különös figyelmet fordítunk arra\, hogy a nagyvállalatok jelenlegi helyzetéről átfogó képet kapjunk\, beleértve a szabályozásokkal kapcsolatos nehézségeiket és sikerélményeiket. Ezen túlmenően teret biztosítunk a beszállítóknak\, hogy ne csak a tanúsítványok megszerzésére fókuszáljanak\, hanem arra is\, hogyan építsenek ki egy hatékony kiberbiztonsági ökoszisztémát. \nMiért érdemes részt venni?\nFriss információk a NIS2 követelményeiről és a megfeleléshez szükséges lépésekről\n„Must-have” kiberbiztonsági funkciók bemutatása a telekommunikációs szektorból\nA NIS2 szervezetek beszállítói számára előírt speciális követelmények ismertetése\nKözvetlen konzultáció lehetősége kiberbiztonsági szakértőkkel\nGyakorlati tapasztalatok megosztása a vállalati digitális rendszerek hatékony védelméről \nElőadók\nDr. Bencsik Balázs – Kiberbiztonsági szakértő\, SZTFH\nBor Olivér – Kommunikációs szakértő\, SZTFH\nHári Krisztián – Business Security Director\, Yettel\nVarga Gábor – Kiberbiztonsági szakértő\, IVSZ\nDr. Palicz Tamás – Stratégiai igazgató-helyettes Semmelweis Egyetem\, Egészségügyi Menedzserképző Központ\nGazdag Ferenc – Alelnök\, MVISZ\nSeprényi Zoltán – Security Director\, CETIN\nMatek Kamilló – Etikus Hacker\, a KPMG Cyberlab Vezetője \nCsatlakozzon hozzánk\, és vegyen részt a közös párbeszédben\, amely segít eligazodni a NIS2 szabályozás kihívásai között\, miközben egy erősebb és biztonságosabb jövőt építünk! \nA részvétel ingyenes\, de regisztrációhoz kötött az alábbi linken keresztül: https://forms.office.com/Pages/ResponsePage.aspx?id=T72bFlRAzUmlxwJEqyPjqFFcWtvh_9RFuJC5IJThXgRUNUUxUzc5RkExMlU4S0RKQzhOUjJIWDNPTi4u
URL:https://kibernaptar.hu/esemeny/cetin-kiberbiztonsagi-szakmai-forum-2024/
LOCATION:Yettel / Cetin Székház\, Törökbálint\, Pannon út 1\, 2045\, Törökbálint\, 2045
CATEGORIES:Kiberhónap2024,Szakmai Fórum
ATTACH;FMTTYPE=image/png:https://kibernaptar.hu/wp-content/uploads/2024/10/CETIN-Kiberbiztonsagi-Szakmai-Forum-2024-00B.png
ORGANIZER;CN="Cetin Hungary Zrt":MAILTO:agnes.vargafojto@cetin.hu
END:VEVENT
BEGIN:VEVENT
DTSTART;TZID=Europe/Budapest:20241030T083000
DTEND;TZID=Europe/Budapest:20241030T120000
DTSTAMP:20260420T023406
CREATED:20241017T123326Z
LAST-MODIFIED:20241018T050248Z
UID:10000113-1730277000-1730289600@kibernaptar.hu
SUMMARY:KiberKifli – MI és IT-biztonság a reggeli mellé
DESCRIPTION:A mesterséges intelligenciával és a kiberbiztonsággal foglalkozni muszáj. De ha már muszáj\, akkor legalább tegyük kellemes környezetben! \nA Tigra és az ITBUSINESS közös reggeli kóstolója komplett étlapot kínál vendégei számára\, mely során finom falatokkal fűszerezi a hasznos szakmai ismereteket.\nA menüsor az alábbi\,\n– AI americano (a generatív tanácsadás kora)\n– Compliance croissant (jogszabályi megfelelés a gyakorlatban)\n– OSINT omlett (információk nyílt forrásokból)\n– Plan pancake (biztonsági tervezésről őszintén)\n– Tiny toast (CTI\, kicsiben tálalva) \nA zárófogás a Trending tapas lesz\, egy kerekasztal-beszélgetés\, ahol Nagy Ádám (K&H Bank)\, Bogáncs Tamás János (MÁV)\, Marsi Tamás (NKI)\, valamint Alföldi Judit és Füredi László (Tigra) Schopp Attila (ITBUINESS) moderálása mellett vitatják meg 2025 IT-biztonsági kihívásait. \nDesszertként pedig kötetlen networkinget és villásreggelit kínálunk minden vendégünknek. \n*A Clubon való részvétel ingyenes\, de felhívjuk figyelmét\, hogy regisztrációhoz és a szerkesztőség jóváhagyásához kötött. A regisztrációhoz szükséges linket az esemény weboldalán találja.
URL:https://kibernaptar.hu/esemeny/kiberkiflli-mi-es-it-biztonsag-a-reggeli-melle/
LOCATION:Kempinski Hotel Corvinus Budapest\, Erzsébet tér 7-8\, Budapest\, 1051
CATEGORIES:Kiberhónap2024
ATTACH;FMTTYPE=image/jpeg:https://kibernaptar.hu/wp-content/uploads/2024/10/Tigra_1.jpg
END:VEVENT
END:VCALENDAR