BEGIN:VCALENDAR
VERSION:2.0
PRODID:-//Kibernaptár - ECPv6.15.20//NONSGML v1.0//EN
CALSCALE:GREGORIAN
METHOD:PUBLISH
X-ORIGINAL-URL:https://kibernaptar.hu
X-WR-CALDESC:Események Kibernaptár
REFRESH-INTERVAL;VALUE=DURATION:PT1H
X-Robots-Tag:noindex
X-PUBLISHED-TTL:PT1H
BEGIN:VTIMEZONE
TZID:Europe/Budapest
BEGIN:DAYLIGHT
TZOFFSETFROM:+0100
TZOFFSETTO:+0200
TZNAME:CEST
DTSTART:20230326T010000
END:DAYLIGHT
BEGIN:STANDARD
TZOFFSETFROM:+0200
TZOFFSETTO:+0100
TZNAME:CET
DTSTART:20231029T010000
END:STANDARD
BEGIN:DAYLIGHT
TZOFFSETFROM:+0100
TZOFFSETTO:+0200
TZNAME:CEST
DTSTART:20240331T010000
END:DAYLIGHT
BEGIN:STANDARD
TZOFFSETFROM:+0200
TZOFFSETTO:+0100
TZNAME:CET
DTSTART:20241027T010000
END:STANDARD
BEGIN:DAYLIGHT
TZOFFSETFROM:+0100
TZOFFSETTO:+0200
TZNAME:CEST
DTSTART:20250330T010000
END:DAYLIGHT
BEGIN:STANDARD
TZOFFSETFROM:+0200
TZOFFSETTO:+0100
TZNAME:CET
DTSTART:20251026T010000
END:STANDARD
END:VTIMEZONE
BEGIN:VEVENT
DTSTART;TZID=Europe/Budapest:20241112T170000
DTEND;TZID=Europe/Budapest:20241112T193000
DTSTAMP:20260420T005916
CREATED:20241105T065311Z
LAST-MODIFIED:20241105T065311Z
UID:10000117-1731430800-1731439800@kibernaptar.hu
SUMMARY:Őszi Kiberbiztonsági TDK Workshop: OSINT
DESCRIPTION:A digitális fejlődés számos új típusú kockázatot eredményezett\, amelyek jelentős része visszavezethető a nem kellően tudatos megosztásokhoz. A nyílt forrású információgyűjtés ebből fakadóan rendkívül hasznos eljárásként jelenik meg\, amit jellegéből következően bárki végezhet\, hiszen nem szükséges bírói\, miniszteri engedély. A nyílt forrású információgyűjtés számos forrásból végezhető\, amit a folyamatosan változó technikai eszközök támogatnak. A téma jelentőségét jelzi\, hogy a kiberbiztonsági mesterképzésen 42 órás kurzusként sajátítják el a hallgatók az ismeretanyagot. A workshopon Badróczky Ákos\, a téma elismert kutatója tart bemutatót az új típus eljárás kapcsán. A rendezvény egyúttal lehetőséget biztosít arra\, hogy a hallgatók megismerjék\, milyen eszközöket és módszereket használnak a kiberfenyegetések azonosítására és kezelésére. Az esemény célja\, hogy hozzájáruljon a jövő szakembereinek fejlődéséhez és a közösség összekovácsolásához. \nRegisztráció az alábbi URL-en: https://ludevent.uni-nke.hu/event/4287/
URL:https://kibernaptar.hu/esemeny/oszi-kiberbiztonsagi-tdk-workshop-osint/
LOCATION:Nemzeti Közszolgálati Egyetem\, Oktatási Központ 108\, Üllői út 82.\, Budapest\, 1083
CATEGORIES:Szakmai Fórum
ATTACH;FMTTYPE=image/jpeg:https://kibernaptar.hu/wp-content/uploads/2024/11/OSINT.jpg
END:VEVENT
BEGIN:VEVENT
DTSTART;TZID=Europe/Budapest:20241113T170000
DTEND;TZID=Europe/Budapest:20241113T190000
DTSTAMP:20260420T005916
CREATED:20241106T134607Z
LAST-MODIFIED:20241106T134607Z
UID:10000118-1731517200-1731524400@kibernaptar.hu
SUMMARY:ISACA Második szerdai előadás - 2024. november
DESCRIPTION:Angyal Adrián: upply chain cybersecurity – alkalmazott kiberbiztonság és adatvédelem az ellátási láncban \n\nAz előadóról: 2007 óta foglalkozik információbiztonsággal\, valamint 2011 óta a személyes adatok védelmével. IT üzemeltetési háttérrel érkezett az információbiztonsági területre\, ahol annak számos területet ismert meg és alkalmazott az évek során. Tanácsadói\, auditori\, üzletfejlesztői és menedzser szerepköreiben szerzett tapasztalatait most már lassan több mint két éve egy nemzetközi gyártó cégnél betöltött kiberbiztonsági vezetői pozícióban kamatoztatja. \n\nAz előadásról: „Supply chain security” – igen sok mindent érthetünk az ellátási lánc biztonságán\, körbejárjuk a „lehetőségeket” és elmondom\, hogy én mivel foglalkozom a Nokiánál. Szoftver biztonság\, belső fejlesztésű alkalmazások\, fizikai biztonság vagy beszállítók – mi az elsődleges\, mi a hatékony megoldás ha fokozni akarjuk a biztonsági szintet? Elhangzik a kötelező mondat\, kockázatarányos védelem\, ezután betekintés\, beszélgetés következik arról\, hogy mik is lehetnek a valódi kockázatok\, kihívások az ellátási láncban.
URL:https://kibernaptar.hu/esemeny/isaca-masodik-szerdai-eloadas-2024-november/
LOCATION:Online
CATEGORIES:Szakmai Fórum
ATTACH;FMTTYPE=image/png:https://kibernaptar.hu/wp-content/uploads/2024/11/Masodik-szerdai-eloadas-masolata.png
ORGANIZER;CN="ISACA Budapest Chapter":MAILTO:web@isaca.hu
END:VEVENT
END:VCALENDAR