BEGIN:VCALENDAR
VERSION:2.0
PRODID:-//Kibernaptár - ECPv6.15.20//NONSGML v1.0//EN
CALSCALE:GREGORIAN
METHOD:PUBLISH
X-WR-CALNAME:Kibernaptár
X-ORIGINAL-URL:https://kibernaptar.hu
X-WR-CALDESC:Események Kibernaptár
REFRESH-INTERVAL;VALUE=DURATION:PT1H
X-Robots-Tag:noindex
X-PUBLISHED-TTL:PT1H
BEGIN:VTIMEZONE
TZID:Europe/Budapest
BEGIN:DAYLIGHT
TZOFFSETFROM:+0100
TZOFFSETTO:+0200
TZNAME:CEST
DTSTART:20240331T010000
END:DAYLIGHT
BEGIN:STANDARD
TZOFFSETFROM:+0200
TZOFFSETTO:+0100
TZNAME:CET
DTSTART:20241027T010000
END:STANDARD
BEGIN:DAYLIGHT
TZOFFSETFROM:+0100
TZOFFSETTO:+0200
TZNAME:CEST
DTSTART:20250330T010000
END:DAYLIGHT
BEGIN:STANDARD
TZOFFSETFROM:+0200
TZOFFSETTO:+0100
TZNAME:CET
DTSTART:20251026T010000
END:STANDARD
BEGIN:DAYLIGHT
TZOFFSETFROM:+0100
TZOFFSETTO:+0200
TZNAME:CEST
DTSTART:20260329T010000
END:DAYLIGHT
BEGIN:STANDARD
TZOFFSETFROM:+0200
TZOFFSETTO:+0100
TZNAME:CET
DTSTART:20261025T010000
END:STANDARD
END:VTIMEZONE
BEGIN:VEVENT
DTSTART;TZID=Europe/Budapest:20250122T170000
DTEND;TZID=Europe/Budapest:20250122T190000
DTSTAMP:20260419T233439
CREATED:20250110T084233Z
LAST-MODIFIED:20250110T084233Z
UID:10000126-1737565200-1737572400@kibernaptar.hu
SUMMARY:ISACA Második szerdai előadás - 2025. január
DESCRIPTION:Idei első Második szerdai előadásunkon rendhagyó módon két előadónk lesz\, akik az ISACA Budapest Chapter magyar nyelvű képzéseinek oktatói.\nElőadók: Biró Gabriella és Krasznay Csaba\nElőadás címe: Hogyan készüljünk fel az ISACA vizsgákra? \nAz eseményhez az alábbi linken keresztül lehet csatlakozni: \nhttps://cpe.isaca.hu/conference/open/UrYOCC8nRxxopZyRVJBbFj8OhwgmC4GYTRtBG3amS242LOwf0l
URL:https://kibernaptar.hu/esemeny/isaca-masodik-szerdai-eloadas-2025-januar/
LOCATION:Online
CATEGORIES:Egyéb
ATTACH;FMTTYPE=image/png:https://kibernaptar.hu/wp-content/uploads/2025/01/Masodik-szerdai-eloadas-Biro-Krasznay.png
ORGANIZER;CN="ISACA Budapest Chapter":MAILTO:web@isaca.hu
END:VEVENT
END:VCALENDAR