BEGIN:VCALENDAR
VERSION:2.0
PRODID:-//Kibernaptár - ECPv6.15.20//NONSGML v1.0//EN
CALSCALE:GREGORIAN
METHOD:PUBLISH
X-WR-CALNAME:Kibernaptár
X-ORIGINAL-URL:https://kibernaptar.hu
X-WR-CALDESC:Események Kibernaptár
REFRESH-INTERVAL;VALUE=DURATION:PT1H
X-Robots-Tag:noindex
X-PUBLISHED-TTL:PT1H
BEGIN:VTIMEZONE
TZID:Europe/Budapest
BEGIN:DAYLIGHT
TZOFFSETFROM:+0100
TZOFFSETTO:+0200
TZNAME:CEST
DTSTART:20240331T010000
END:DAYLIGHT
BEGIN:STANDARD
TZOFFSETFROM:+0200
TZOFFSETTO:+0100
TZNAME:CET
DTSTART:20241027T010000
END:STANDARD
BEGIN:DAYLIGHT
TZOFFSETFROM:+0100
TZOFFSETTO:+0200
TZNAME:CEST
DTSTART:20250330T010000
END:DAYLIGHT
BEGIN:STANDARD
TZOFFSETFROM:+0200
TZOFFSETTO:+0100
TZNAME:CET
DTSTART:20251026T010000
END:STANDARD
BEGIN:DAYLIGHT
TZOFFSETFROM:+0100
TZOFFSETTO:+0200
TZNAME:CEST
DTSTART:20260329T010000
END:DAYLIGHT
BEGIN:STANDARD
TZOFFSETFROM:+0200
TZOFFSETTO:+0100
TZNAME:CET
DTSTART:20261025T010000
END:STANDARD
END:VTIMEZONE
BEGIN:VEVENT
DTSTART;TZID=Europe/Budapest:20250521T000000
DTEND;TZID=Europe/Budapest:20250521T235959
DTSTAMP:20260419T175519
CREATED:20250124T065503Z
LAST-MODIFIED:20250124T065503Z
UID:10000128-1747785600-1747871999@kibernaptar.hu
SUMMARY:security BSides Budapest 2025
DESCRIPTION:A Security BSides a független IT security rendezvények és konferenciák nemzetközi hálózata. A budapesti eseményt 2025-ben már 9. alkalommal rendezik meg.
URL:https://kibernaptar.hu/esemeny/security-bsides-budapest-2025/
LOCATION:Lurdy Konferencia-és Rendezvényközpont\, Könyves Kálmán krt. 12-14.\, Budapest\, Pest\, 1097\, Magyarország
CATEGORIES:Nemzetközi konferencia,Szakmai Fórum
ATTACH;FMTTYPE=image/jpeg:https://kibernaptar.hu/wp-content/uploads/2025/01/BSides_2025_image_jpg.jpg
ORGANIZER;CN="Hacktivity Rendezv%C3%A9nyszervez%C5%91 Kft.":MAILTO:info@hacktivity.com
END:VEVENT
BEGIN:VEVENT
DTSTART;TZID=Europe/Budapest:20250522T093000
DTEND;TZID=Europe/Budapest:20250522T103000
DTSTAMP:20260419T175519
CREATED:20250428T061348Z
LAST-MODIFIED:20250428T061348Z
UID:10000148-1747906200-1747909800@kibernaptar.hu
SUMMARY:Scirge Shadow AI és AI Security Webinár
DESCRIPTION:Vendégünk Keleti Arthur jövőkutató\, az ITBN alapítója\, akivel az ember és AI kapcsolatának 50 árnyalatáról fogunk beszélgetni. \nMilyen etikai\, safety\, és IT biztonsági vonatkozásai vannak az AI megoldásoknak?\nMilyen felelőssége\, lehetősége és eszközei vannak a kockázatok kezelésére a biztonsági szakembereknek és milyen a cégvezetőknek és a felhasználóknak?
URL:https://kibernaptar.hu/esemeny/scirge-shadow-ai-es-ai-security-webinar/
ATTACH;FMTTYPE=image/png:https://kibernaptar.hu/wp-content/uploads/2025/04/ai.png
END:VEVENT
BEGIN:VEVENT
DTSTART;TZID=Europe/Budapest:20250522T170000
DTEND;TZID=Europe/Budapest:20250522T183000
DTSTAMP:20260419T175519
CREATED:20250513T092157Z
LAST-MODIFIED:20250513T092157Z
UID:10000159-1747933200-1747938600@kibernaptar.hu
SUMMARY:Amiről a családoknak feltétlenül tudniuk kell: DIGITÁLIS IFJÚSÁGVÉDELEM
DESCRIPTION:OKOSTELEFON? SZÁMÍTÓGÉP? INTERNET? DIGITÁLIS EZ MEG AZ?\nMegfoghatatlan és beláthatatlan világ. Hogyan lehetünk mégis biztonságban? \nDIGITÁLIS SZEMÉLYVÉDELMI ISMERETEK A BIZTONSÁGOS MAGÁNÉLETHEZ \n„MÁSFÉL ÓRÁS BESZÉLGETÉSEK” PROGRAMSOROZAT \n2. rész\nDIGITÁLIS IFJÚSÁGVÉDELEM \nFókusztémák kamaszok (14+)\, fiatal felnőttek (18+) és szüleik részére:\n• A digitalizáció természete: Más világ!\n• A fizikai világot érzékeljük. A virtuális világ látszólagos.\n• Digitális önvédelmi ajánlások a felnőtté váláshoz\n• A digitális világ meghódítása \nA program jellege:\nKlubfoglalkozás jellegű interaktív beszélgetés és „Kérdezz! Felelek.” \nProgramvezető:\nEŐRY CSABA ÖRS\nadatkezelési szakember és mentor\nbiztonságtechnikai mérnök\nmagándetektív\npolgárőr
URL:https://kibernaptar.hu/esemeny/amirol-a-csaladoknak-feltetlenul-tudniuk-kell-digitalis-ifjusagvedelem/
LOCATION:Katona József Könyvtár\, Piaristák tere 8.\, Kecskemét\, 6000
CATEGORIES:Egyéb
ATTACH;FMTTYPE=image/png:https://kibernaptar.hu/wp-content/uploads/2025/05/MOB-2.resz_.png
ORGANIZER;CN="DIMENTOR ZRT.":MAILTO:iroda@diMentor.hu
END:VEVENT
END:VCALENDAR