BEGIN:VCALENDAR
VERSION:2.0
PRODID:-//Kibernaptár - ECPv6.15.20//NONSGML v1.0//EN
CALSCALE:GREGORIAN
METHOD:PUBLISH
X-WR-CALNAME:Kibernaptár
X-ORIGINAL-URL:https://kibernaptar.hu
X-WR-CALDESC:Események Kibernaptár
REFRESH-INTERVAL;VALUE=DURATION:PT1H
X-Robots-Tag:noindex
X-PUBLISHED-TTL:PT1H
BEGIN:VTIMEZONE
TZID:Europe/Budapest
BEGIN:DAYLIGHT
TZOFFSETFROM:+0100
TZOFFSETTO:+0200
TZNAME:CEST
DTSTART:20230326T010000
END:DAYLIGHT
BEGIN:STANDARD
TZOFFSETFROM:+0200
TZOFFSETTO:+0100
TZNAME:CET
DTSTART:20231029T010000
END:STANDARD
BEGIN:DAYLIGHT
TZOFFSETFROM:+0100
TZOFFSETTO:+0200
TZNAME:CEST
DTSTART:20240331T010000
END:DAYLIGHT
BEGIN:STANDARD
TZOFFSETFROM:+0200
TZOFFSETTO:+0100
TZNAME:CET
DTSTART:20241027T010000
END:STANDARD
BEGIN:DAYLIGHT
TZOFFSETFROM:+0100
TZOFFSETTO:+0200
TZNAME:CEST
DTSTART:20250330T010000
END:DAYLIGHT
BEGIN:STANDARD
TZOFFSETFROM:+0200
TZOFFSETTO:+0100
TZNAME:CET
DTSTART:20251026T010000
END:STANDARD
END:VTIMEZONE
BEGIN:VEVENT
DTSTART;TZID=Europe/Budapest:20240905T000000
DTEND;TZID=Europe/Budapest:20240906T235959
DTSTAMP:20260420T123036
CREATED:20240805T113512Z
LAST-MODIFIED:20240805T113512Z
UID:10000083-1725494400-1725667199@kibernaptar.hu
SUMMARY:XIV. Média- és Internetkonferencia - Tegyünk együtt egy jobb internetért!
DESCRIPTION:A Nemzetközi Gyermekmentő Szolgálat 14. alkalommal rendezi meg Média- és internetkonferenciáját „Tegyünk együtt egy jobb internetért!” címmel\, a Magyar Telekom Székházban. \nA Nemzetközi Gyermekmentő Szolgálat\, mint Magyarország Safer Internet Centere (SIC) tudatosságnövelő központként\, hotline-ként a gyermekek\, szülők és tanárok felvilágosítását\, illetve az interneten található káros tartalmak eltávolítását tűzte ki célul. Szeretnénk elérni\, hogy az országban minél több internethasználó böngészhessen biztonságosabb körülmények között\, és hogy probléma esetén tudják\, hogy hozzánk is fordulhatnak.
URL:https://kibernaptar.hu/esemeny/xiv-media-es-internetkonferencia-tegyunk-egyutt-egy-jobb-internetert/
LOCATION:Magyar Telekom Székház\, Könyves Kálmán krt. 36.\, Budapest\, 1097\, Magyarország
CATEGORIES:Nemzetközi konferencia
ATTACH;FMTTYPE=image/jpeg:https://kibernaptar.hu/wp-content/uploads/2024/08/plakat.jpg
ORGANIZER;CN="Nemzetk%C3%B6zi Gyermekment%C5%91 Szolg%C3%A1lat - Safer Internet Center":MAILTO:siphun@gyermekmento.hu
END:VEVENT
BEGIN:VEVENT
DTSTART;TZID=Europe/Budapest:20240628T000000
DTEND;TZID=Europe/Budapest:20240628T235959
DTSTAMP:20260420T123037
CREATED:20240619T113925Z
LAST-MODIFIED:20240619T113925Z
UID:10000076-1719532800-1719619199@kibernaptar.hu
SUMMARY:eSignDay – Elektronikus Aláírás Napja
DESCRIPTION:Ismét eSignDay\, vagyis idén is lesz Elektronikus Aláírás Napja! \nMár elérhető a regisztráció a Melasz – Magyar Elektronikus Aláírás Szövetség Egyesület hagyományosan megrendezett eSignDay rendezvényére\, amely most kivételesen 2 napos.\nAz első nap online lesz megtartva\, de június 28-án pénteken várunk személyesen is mindenkit.\nA rendezvény ingyenes\, de regisztráció köteles\, a helyszínen kb. 80 fő tud megjelenni.\nRegisztráció az esemény oldalán. \nIdén összevonva – 2 napos esemény keretében 2024. június 27-28-án – kerül megrendezésre a FraudPrevent konferencia és az eSignDay rendezvény. \nA SZTAKI\, az Internet Szolgáltatók Tanácsa Tudományos Egyesület és a MELASZ idén is megrendezi szokásos #eSignDay konferenciát\, melyet idén kiegészít (megelőz) a SZTAKI FraudPrevent konferenciája. \nAz első napon a FraudPrevent konferencia keretében az internetes csalások elleni védelem a téma.\nA két rendezvény együtt szervezésének az adja az apropóját\, hogy sok az áthallás a két téma között\, az internetes csalások elleni védekezésben az e-aláírás és a PKI technológia sok esetben szerepet kap. \nA második napon a szokásos éves eSignDay kerül megrendezésre. Ezen a napon főleg az eIDAS2 és magyar szabályozása a DÁP törvény adja majd az új témát\, hiszen ez talán a legjelentősebb változás a digitális aláírások területén\, amely kihatással van az életünkre. \nA Konferencia helyszíne: 1111 Budapest\, Kende u. 13-17.\nA konferencia hibrid módon kerül megtartásra (helyszíni személyes vagy távoli részvétellel).\nA részvétel ingyenes\, de regisztrációhoz kötött.
URL:https://kibernaptar.hu/esemeny/esignday-elektronikus-alairas-napja/
LOCATION:Online
CATEGORIES:HunCERT által szervezett események
ATTACH;FMTTYPE=image/jpeg:https://kibernaptar.hu/wp-content/uploads/2024/06/esignday-logo-1-scaled.jpg
ORGANIZER;CN="Magyar Elektronikus Al%C3%A1%C3%ADr%C3%A1s Sz%C3%B6vets%C3%A9g - MELASZ":MAILTO:elnokseg@melasz.hu
END:VEVENT
BEGIN:VEVENT
DTSTART;TZID=Europe/Budapest:20240627T100000
DTEND;TZID=Europe/Budapest:20240627T144000
DTSTAMP:20260420T123037
CREATED:20240619T113230Z
LAST-MODIFIED:20240619T115745Z
UID:10000075-1719482400-1719499200@kibernaptar.hu
SUMMARY:FraudPrevent – csalás elleni nap
DESCRIPTION:Idén összevonva – 2 napos esemény keretében 2024. június 27-28-án – kerül megrendezésre a FraudPrevent konferencia és az eSignDay rendezvény. \nAz első napon a FraudPrevent konferencia keretében az internetes csalások elleni védelem a téma.\nA programok ezen a napon online lesznek megrendezve\, a csatlakozáshoz a linket e-mailben küldjük a regisztrációs űrlap kitöltőinek. \nA második napon a szokásos éves eSignDay (SZTAKI\, ISZT\, MELASZ) kerül megrendezésre\, hibrid formában. \nTovábbi információk és regisztráció az esemény oldalán.
URL:https://kibernaptar.hu/esemeny/fraudprevent-csalas-elleni-nap/
LOCATION:Online
CATEGORIES:HunCERT által szervezett események
ATTACH;FMTTYPE=image/png:https://kibernaptar.hu/wp-content/uploads/2024/06/Fraud-prevention-1.png
ORGANIZER;CN="HUN-REN SZTAKI":MAILTO:contact@sztaki.hun-ren.hu
END:VEVENT
BEGIN:VEVENT
DTSTART;TZID=Europe/Budapest:20240622T180000
DTEND;TZID=Europe/Budapest:20240622T220000
DTSTAMP:20260420T123037
CREATED:20240621T075631Z
LAST-MODIFIED:20240621T075631Z
UID:10000077-1719079200-1719093600@kibernaptar.hu
SUMMARY:Lebilincselő kék éj  - KiberEst
DESCRIPTION:A Múzeumok Éjszakája keretében a Bács-Kiskun Vármegyei Rendőr-főkapitányság az online és telefonos csalások témakörében tart interaktív előadást és workshopot. A épület nagytermében Dr. Göcs László\, a Neumann János Egyetem adjunktusa\, informatikai igazságügyi szakértő tart előadást\, míg ezzel párhuzamosan áldozatvédelmi és bűnmegelőzési kiállítás tekinthető meg az aulában.
URL:https://kibernaptar.hu/esemeny/lebilincselo-kek-ej-kiberest/
LOCATION:Bács-Kiskun Vármegyei Rendőr-főkapitányság\, Batthyány utca 14.\, Kecskemét\, 6000\, Magyarország
CATEGORIES:Egyéb
ATTACH;FMTTYPE=image/png:https://kibernaptar.hu/wp-content/uploads/2024/06/2024.-hamarosan-1.png
ORGANIZER;CN="B%C3%A1cs-Kiskun V%C3%A1rmegyei Rend%C5%91r-f%C5%91kapit%C3%A1nys%C3%A1g":MAILTO:bacsmrfk@bacs.police.hu
END:VEVENT
BEGIN:VEVENT
DTSTART;TZID=Europe/Budapest:20240612T170000
DTEND;TZID=Europe/Budapest:20240612T190000
DTSTAMP:20260420T123037
CREATED:20240610T073558Z
LAST-MODIFIED:20240610T073558Z
UID:10000071-1718211600-1718218800@kibernaptar.hu
SUMMARY:ISACA Második szerdai előadás - 2024. június
DESCRIPTION:Bánszki Zsolt: Hogyan kezdjünk neki? Anemona a szabályok és ajánlások útvesztőjéhez. \nIdőpont: 2024. június 12. (szerda) 17:00 \nAz előadásról: \nA 2016-ban bevezetett uniós kiberbiztonsági szabályokat a 2023-ban hatályba lépett NIS2 irányelv aktualizálta. A nemzeti szabályozási rendszernek 2024. október 18-ig elő kell állnia\, így mindenki NIS2 lázban ég! Fel kell készülnünk! Na de mire? Hogyan? \nA Kibertan. tv. kész\, de az Ibtv. módosítása\, valamint a 41/2015. (VII.15.) BM rendelet módosítása még hivatalosan várat magára. Nade mégis mi várható?\n2024. január 31-én megjelent\, társadalmi egyeztetésre a részletes követelményeket tartalmazó kormányrendelet tervezete. Ezek alapján nem érte nagy meglepetés a szakmát. Az új rendelet-tervezet ugyanúgy a NIST 800-53 -at veszi alapul\, mint az Ibtv. -hez kötődő 41/2015. (VII.15.) BM rendelet\, azzal a különbséggel\, hogy itt már a Rev5 az alap.\nJa az más! Így egyszerű lesz… gondolhatnánk…. \nAz előadóról: \nBánszki Zsolt közel 25 éve dolgozik nagyvállalati IT környezetben\, ebből 19 évet vezetői pozícióban. A ranglétrát végigjárva foglalkozott üzemeltetéssel\, fejlesztéssel és immár több mint 10 éve az IT biztonság szakértőjeként tevékenykedik\, ahol mindig is a technológiai megközelítés állt hozzá a legközelebb. Karrierjét az államigazgatásban kezdte\, majd a privát szférában is dolgozott. Jelenleg a biztributor stratégiai tanácsadójaként az innovatív kiberbiztonsági technológiák ügyfélközpontú bemutatására koncentrál.
URL:https://kibernaptar.hu/esemeny/isaca-masodik-szerdai-eloadas-2024-junius/
LOCATION:Online
CATEGORIES:Egyéb
ATTACH;FMTTYPE=image/png:https://kibernaptar.hu/wp-content/uploads/2024/06/Masodik-szerdai-eloadas-masolata.png
ORGANIZER;CN="ISACA Budapest Chapter":MAILTO:web@isaca.hu
END:VEVENT
BEGIN:VEVENT
DTSTART;TZID=Europe/Budapest:20240529T100000
DTEND;TZID=Europe/Budapest:20240529T153000
DTSTAMP:20260420T123037
CREATED:20240522T110813Z
LAST-MODIFIED:20240523T063933Z
UID:10000067-1716976800-1716996600@kibernaptar.hu
SUMMARY:DNS biztonsági workshop
DESCRIPTION:Az Internet Szolgáltatók Tanácsa Tudományos Egyesület\, a HUN-REN SZTAKI és a HunCERT 2024. május 29-én egész napos DNS (Domain Name System) biztonsági workshopot tart az egyesület tagjainak\, a regisztrátoroknak és minden érdeklődő számára.\nA nap délelőtti részében egy oktatást tartunk\, majd délután mélyebb szakmai előadásokkal készülünk. Az előadások magyar nyelvűek\, a DNS4EU témában tartott két angol prezentációt kivéve. \nA rendezvény ingyenes\, de előzetes regisztrációhoz kötött\, amit május 27-én 23:59-kor zárunk.\nA workshop CPE pontszerző esemény is egyben. \nMinden érdeklődőt szeretettel várunk.
URL:https://kibernaptar.hu/esemeny/dns-biztonsagi-workshop/
LOCATION:Online
CATEGORIES:HunCERT által szervezett események
ATTACH;FMTTYPE=image/png:https://kibernaptar.hu/wp-content/uploads/2024/05/dns-security-workshop-620-x-349-keppont.png
ORGANIZER;CN="ISZT%2C HunCERT%2C HUN-REN SZTAKI":MAILTO:cert@cert.hu
END:VEVENT
BEGIN:VEVENT
DTSTART;TZID=Europe/Budapest:20240523T163000
DTEND;TZID=Europe/Budapest:20240523T190000
DTSTAMP:20260420T123037
CREATED:20240523T064712Z
LAST-MODIFIED:20240523T065043Z
UID:10000068-1716481800-1716490800@kibernaptar.hu
SUMMARY:EIVOK-48 Információbiztonsági Szakmai Fórum\, Szakosztályi ülés
DESCRIPTION:Program: \n16.30 – 16.40 Megnyitó:\nDr. Magyar Sándor EIVOK elnök \n16.40 – 17.00 EIVOK – szakosztályi ülés\nNapirend a Szakosztály tagjainak küldött külön meghívóban \n17.00 – 17.30\nJogszabályi megfelelés és információbiztonsági feladatok támogatása a SIREN rendszerrel\nOroszi Eszter Diána\nSilent Signal Kft.\, információbiztonsági tanácsadás üzletágvezető \n17.30 – 17.50\nHogy hekkeltek idén? – Beszámoló a HCSC ‘24-ről\nSas Péter\nHCSC főszervező \n17.50 – 18.10\nKérdések és válaszok\, kötetlen beszélgetés \n18.10 – 18.40 EIVOK megismételt szakosztályi ülés\, amennyiben szükséges \nA rendezvény ingyenes\, de regisztrációhoz kötött\, jelentkezni az alábbi linken lehet: \nhttps://ludevent.uni-nke.hu/event/4116/ \nISACA CPE pontszerzési lehetőség! \nAz előadáson való részvétel esetén 1 CPE pont szerezhető.
URL:https://kibernaptar.hu/esemeny/eivok-48-informaciobiztonsagi-szakmai-forum-szakosztalyi-ules/
LOCATION:Online
CATEGORIES:Szakmai Fórum
ATTACH;FMTTYPE=image/png:https://kibernaptar.hu/wp-content/uploads/2024/05/EIVOK_logo.png
ORGANIZER;CN="EIVOK%2C  HTE Inform%C3%A1ci%C3%B3biztons%C3%A1gi Szakoszt%C3%A1ly":MAILTO:eivok@hte.hu
END:VEVENT
BEGIN:VEVENT
DTSTART;TZID=Europe/Budapest:20240522T080000
DTEND;TZID=Europe/Budapest:20240522T120000
DTSTAMP:20260420T123037
CREATED:20240506T081545Z
LAST-MODIFIED:20240516T125632Z
UID:10000062-1716364800-1716379200@kibernaptar.hu
SUMMARY:KiberReggeli
DESCRIPTION:KiberReggeli	\n\n\n			\n			\n	 \n		\n	\n\n\nÉvente kerül megrendezésre a KiberReggeli nevű esemény\, ahol az NBSZ NKI-val együttműködő szervezetek\, cégek képviselői kerülnek meghívásra egy kötetlen beszélgetésre.
URL:https://kibernaptar.hu/esemeny/kiberreggeli/
LOCATION:Nemzetbiztonsági Szakszolgálat\, Törökvész út 32-34.\, Budapest\, 1022\, Magyarország
CATEGORIES:NKI által szervezett események
ATTACH;FMTTYPE=image/jpeg:https://kibernaptar.hu/wp-content/uploads/2024/05/kiberreggeli_meghivo_1.jpg
ORGANIZER;CN="Nemzetbiztons%C3%A1gi Szakszolg%C3%A1lat Nemzeti Kiberbiztons%C3%A1gi Int%C3%A9zet":MAILTO:titkarsag@nki.gov.hu
END:VEVENT
END:VCALENDAR