BEGIN:VCALENDAR
VERSION:2.0
PRODID:-//Kibernaptár - ECPv6.15.20//NONSGML v1.0//EN
CALSCALE:GREGORIAN
METHOD:PUBLISH
X-WR-CALNAME:Kibernaptár
X-ORIGINAL-URL:https://kibernaptar.hu
X-WR-CALDESC:Események Kibernaptár
REFRESH-INTERVAL;VALUE=DURATION:PT1H
X-Robots-Tag:noindex
X-PUBLISHED-TTL:PT1H
BEGIN:VTIMEZONE
TZID:Europe/Budapest
BEGIN:DAYLIGHT
TZOFFSETFROM:+0100
TZOFFSETTO:+0200
TZNAME:CEST
DTSTART:20250330T010000
END:DAYLIGHT
BEGIN:STANDARD
TZOFFSETFROM:+0200
TZOFFSETTO:+0100
TZNAME:CET
DTSTART:20251026T010000
END:STANDARD
BEGIN:DAYLIGHT
TZOFFSETFROM:+0100
TZOFFSETTO:+0200
TZNAME:CEST
DTSTART:20260329T010000
END:DAYLIGHT
BEGIN:STANDARD
TZOFFSETFROM:+0200
TZOFFSETTO:+0100
TZNAME:CET
DTSTART:20261025T010000
END:STANDARD
BEGIN:DAYLIGHT
TZOFFSETFROM:+0100
TZOFFSETTO:+0200
TZNAME:CEST
DTSTART:20270328T010000
END:DAYLIGHT
BEGIN:STANDARD
TZOFFSETFROM:+0200
TZOFFSETTO:+0100
TZNAME:CET
DTSTART:20271031T010000
END:STANDARD
END:VTIMEZONE
BEGIN:VEVENT
DTSTART;TZID=Europe/Budapest:20260304T083000
DTEND;TZID=Europe/Budapest:20260304T173000
DTSTAMP:20260419T181649
CREATED:20260211T134812Z
LAST-MODIFIED:20260211T134812Z
UID:10000248-1772613000-1772645400@kibernaptar.hu
SUMMARY:Business & Security 2026
DESCRIPTION:A Business & Security 2026 a modern kiberveszélyek és a mesterséges intelligencia korában jelentkező vállalati kockázatokat mutatja be. A konferencia középpontjában a digitális identitás védelme\, a deepfake-alapú visszaélések\, az MI-rendszerek támadhatósága és az automatizált védelem új módszerei állnak. A résztvevők valós incidensforgatókönyveken keresztül ismerhetik meg\, hogyan lehet gyorsabb\, reziliensebb és hatékonyabb védelmet kiépíteni a szervezetben. A rendezvény célja\, hogy a biztonság ne technikai akadály\, hanem üzleti versenyelőny legyen.
URL:https://kibernaptar.hu/esemeny/business-security-2026/
LOCATION:La Vida Duna Rendezvényház\, Dunavirág utca 2-6.\, Budapest\, 1138
CATEGORIES:Egyéb,Szakmai Fórum
END:VEVENT
END:VCALENDAR