BEGIN:VCALENDAR
VERSION:2.0
PRODID:-//Kibernaptár - ECPv6.15.20//NONSGML v1.0//EN
CALSCALE:GREGORIAN
METHOD:PUBLISH
X-ORIGINAL-URL:https://kibernaptar.hu
X-WR-CALDESC:Események Kibernaptár
REFRESH-INTERVAL;VALUE=DURATION:PT1H
X-Robots-Tag:noindex
X-PUBLISHED-TTL:PT1H
BEGIN:VTIMEZONE
TZID:Europe/Budapest
BEGIN:DAYLIGHT
TZOFFSETFROM:+0100
TZOFFSETTO:+0200
TZNAME:CEST
DTSTART:20250330T010000
END:DAYLIGHT
BEGIN:STANDARD
TZOFFSETFROM:+0200
TZOFFSETTO:+0100
TZNAME:CET
DTSTART:20251026T010000
END:STANDARD
BEGIN:DAYLIGHT
TZOFFSETFROM:+0100
TZOFFSETTO:+0200
TZNAME:CEST
DTSTART:20260329T010000
END:DAYLIGHT
BEGIN:STANDARD
TZOFFSETFROM:+0200
TZOFFSETTO:+0100
TZNAME:CET
DTSTART:20261025T010000
END:STANDARD
BEGIN:DAYLIGHT
TZOFFSETFROM:+0100
TZOFFSETTO:+0200
TZNAME:CEST
DTSTART:20270328T010000
END:DAYLIGHT
BEGIN:STANDARD
TZOFFSETFROM:+0200
TZOFFSETTO:+0100
TZNAME:CET
DTSTART:20271031T010000
END:STANDARD
END:VTIMEZONE
BEGIN:VEVENT
DTSTART;TZID=Europe/Budapest:20260428T090000
DTEND;TZID=Europe/Budapest:20260428T130000
DTSTAMP:20260419T181719
CREATED:20260326T141846Z
LAST-MODIFIED:20260326T141846Z
UID:10000278-1777366800-1777381200@kibernaptar.hu
SUMMARY:NIS2 vezető online továbbképzés - Gill & Murry
DESCRIPTION:Áprilisban is indul online vezető képzésünk!\nA NIS2 szabályozás a cégvezetők számára is kötelező képzést ír elő az információbiztonság területén. A jogszabály alapján a vezetőknek legkésőbb 2026. december 31-ig egy 8 órás alap képzésen\, majd ezt követően évente legalább 4 órás továbbképzésen kell részt venniük a kiberbiztonsági kötelezettségek és vezetői feladatok megértése érdekében.\nA Gill & Murry Zrt. által szervezett képzéseken a résztvevők online részvétellel tudják igazolni a jogszabály oktatási kötelezettséget. Mindemellett gyakorlati példákon keresztül ismerhetik meg a kiberbiztonsági kockázatok kezelését\, a vezetői felelősségeket és az incidenskezelés alapjait. Célunk\, hogy a képzés valódi\, a mindennapi működésben is hasznosítható tudást nyújtson a vezetők számára.
URL:https://kibernaptar.hu/esemeny/nis2-vezeto-online-tovabbkepzes-gill-murry/2026-04-28/
LOCATION:Online
CATEGORIES:Egyéb
ATTACH;FMTTYPE=image/jpeg:https://kibernaptar.hu/wp-content/uploads/2026/03/aprilisivezeto.jpg
ORGANIZER;CN="Gill &amp%3B Murry":MAILTO:hungary@gillandmurry.com
END:VEVENT
BEGIN:VEVENT
DTSTART;TZID=Europe/Budapest:20260429T080000
DTEND;TZID=Europe/Budapest:20260429T170000
DTSTAMP:20260419T181719
CREATED:20260211T053408Z
LAST-MODIFIED:20260211T053408Z
UID:10000239-1777449600-1777482000@kibernaptar.hu
SUMMARY:BSides Budapest
DESCRIPTION:Security BSides returns to Budapest
URL:https://kibernaptar.hu/esemeny/bsides-budapest/
CATEGORIES:Tervezett esemény
END:VEVENT
END:VCALENDAR