BEGIN:VCALENDAR
VERSION:2.0
PRODID:-//Kibernaptár - ECPv6.15.20//NONSGML v1.0//EN
CALSCALE:GREGORIAN
METHOD:PUBLISH
X-WR-CALNAME:Kibernaptár
X-ORIGINAL-URL:https://kibernaptar.hu
X-WR-CALDESC:Események Kibernaptár
REFRESH-INTERVAL;VALUE=DURATION:PT1H
X-Robots-Tag:noindex
X-PUBLISHED-TTL:PT1H
BEGIN:VTIMEZONE
TZID:Europe/Budapest
BEGIN:DAYLIGHT
TZOFFSETFROM:+0100
TZOFFSETTO:+0200
TZNAME:CEST
DTSTART:20250330T010000
END:DAYLIGHT
BEGIN:STANDARD
TZOFFSETFROM:+0200
TZOFFSETTO:+0100
TZNAME:CET
DTSTART:20251026T010000
END:STANDARD
BEGIN:DAYLIGHT
TZOFFSETFROM:+0100
TZOFFSETTO:+0200
TZNAME:CEST
DTSTART:20260329T010000
END:DAYLIGHT
BEGIN:STANDARD
TZOFFSETFROM:+0200
TZOFFSETTO:+0100
TZNAME:CET
DTSTART:20261025T010000
END:STANDARD
BEGIN:DAYLIGHT
TZOFFSETFROM:+0100
TZOFFSETTO:+0200
TZNAME:CEST
DTSTART:20270328T010000
END:DAYLIGHT
BEGIN:STANDARD
TZOFFSETFROM:+0200
TZOFFSETTO:+0100
TZNAME:CET
DTSTART:20271031T010000
END:STANDARD
END:VTIMEZONE
BEGIN:VEVENT
DTSTART;TZID=Europe/Budapest:20260506T083000
DTEND;TZID=Europe/Budapest:20260506T123000
DTSTAMP:20260419T194846
CREATED:20260410T072524Z
LAST-MODIFIED:20260410T072524Z
UID:10000284-1778056200-1778070600@kibernaptar.hu
SUMMARY:Valkyr – Check Point Workshop
DESCRIPTION:Tisztelt Ügyfelünk! \nA Valkyr ezúton meghívja Önt a saját rendezésű\, Check Point megoldásokkal foglalkozó workshopjára! \nA Check Point név hallatán elsőre legtöbbünk számára a gyártó piacvezető tűzfal megoldásai ugorhatnak be\, amelyek a vállalatok hálózatának biztonságát őrzik több évtizede.\nNapjaink kifinomult kibertámadásai ellen azonban csak a szervezeti hálózat szintjén felvenni a harcot nem elégséges\, gondolni kell a további tényezőkre\, úgymint a felhasználók\, a végpontok\, a Magyarországon is egyre magabiztosabban teret nyerő felhőszolgáltatások védelme\, illetve – egyre gyorsuló ütemben – az AI biztonság kérdéskörére.\nA workshop keretében részletesebben bemutatunk néhány hangsúlyos megoldást\, melyek jól tükrözik\, hogy 30 év után miért számít még mindig meghatározó szereplőnek a globális IT biztonsági piacon a Check Point.\nA rendezvény az Andrássy úti\, Csók bisztróban kerül megrendezésre\, ahol lehetőségünk lesz a hely méltán híres gasztronómiájában is elmerülni. \nProgram:\n8:30-9:00 – Regisztráció\, kávé\, reggeli falatok\n9:00-9:50 – Check Point Harmony Email and Collaboration bemutató\, újdonságok\n10:00-10:50 – Reggeli/brunch\n10:50-11:40 – Check Point AI Security portfólió bemutató\n11:40-12:10 – Harmony SASE\, Harmony Browse\, Enterprise Browser (Surf) bemutató\n12:10-12:30 – Kérdés és válaszok \nA rendezvény ingyenes\, de jóváhagyott előzetes regisztrációhoz kötött.\nA rendezvénnyel kapcsolatos kérdés esetén keressen minket a +36305546093-os telefonszámon\, vagy írjon emailt a marketing@valkyr.hu címre.\nKérjük mihamarabb regisztráljon és vegyen részt a Valkyr-Check Point workshopon.
URL:https://kibernaptar.hu/esemeny/valkyr-check-point-workshop/
LOCATION:Csók bisztró\, Andrássy út 112.\, Budapest\, 1062
CATEGORIES:Egyéb
ATTACH;FMTTYPE=image/jpeg:https://kibernaptar.hu/wp-content/uploads/2026/04/event_cover_check_point_2026_0506.jpg
END:VEVENT
BEGIN:VEVENT
DTSTART;TZID=Europe/Budapest:20260507T080000
DTEND;TZID=Europe/Budapest:20260507T170000
DTSTAMP:20260419T194846
CREATED:20260401T092657Z
LAST-MODIFIED:20260401T092657Z
UID:10000279-1778140800-1778173200@kibernaptar.hu
SUMMARY:Silent Signal - SIREN Szakmai Nap
DESCRIPTION:Megnyílt a regisztráció a 2026. május 7-én megrendezésre kerülő SIREN 🧜‍♀️ Szakmai Napunkra! 🥳 \nÉrdekel\, hogy hogyan könnyítheted meg a munkádat és az evidenciák előállítását a NIS2 audit során? 🔎 👀\nSzeretnél érdekes előadásokat hallani a sérülékenységmenedzsment\, az incidenskezelés és az üzletfolytonosság aktuális kihívásairól? 🍿 🥤\nKíváncsi vagy\, milyen újdonságok jelentek és jelennek meg a SIREN 🧜‍♀️ rendszerünkben?\nAkkor jelentkezz eseményünkre\, találkozzunk 2026. május 7-én a Sugár Moziban! 📆 \nA rendezvényen való részvétel ingyenes\, de regisztrációhoz kötött. Itt tudsz regisztrálni: https://lnkd.in/dUPgkfjK
URL:https://kibernaptar.hu/esemeny/silent-signal-siren-szakmai-nap/
LOCATION:Sugár Mozi\, Örs vezér tere 24.\, Budapest\, 1148
CATEGORIES:Egyéb,Szakmai Fórum
ORGANIZER;CN="Silent Signal":MAILTO:info@silentsignal.hu
END:VEVENT
BEGIN:VEVENT
DTSTART;TZID=Europe/Budapest:20260508T083000
DTEND;TZID=Europe/Budapest:20260508T123000
DTSTAMP:20260419T194846
CREATED:20260318T062211Z
LAST-MODIFIED:20260318T062211Z
UID:10000268-1778229000-1778243400@kibernaptar.hu
SUMMARY:IBF továbbképzés - Gill & Murry
DESCRIPTION:Kötelező éves IBF továbbképzés – NIS2 megfelelés egyszerűen\nA 17/2025. (VII. 24.) EM rendelet alapján a NIS2 kötelezett szervezeteknél az elektronikus információs rendszerek biztonságáért felelős személyeknek évente 20 órás továbbképzésen kell részt venniük.\nA képzésekre lehet regisztrálni egyesével illetve mint egy csomagot is meg lehet venni jelentős kedvezménnyel.\nTovábbi információkért keresse fel Weboldalunk! \nA Gill & Murry online IBF képzése segít könnyen megfelelni ennek az elvárásnak:\n✅ 20 órás\, rendeletnek megfelelő program\n✅ A jogszabályban szereplő mind a 7 témakör teljes körű feldolgozása\n✅ Így biztosan teljesül a minimum 3 témakör követelménye\n✅ Gyakorlati példák és valós kiberbiztonsági tapasztala tok\n✅ 100% online\, rugalmasan elvégezhető\nIdeális képzés azoknak\, akik NIS2 megfelelésért vagy információbiztonságért felelnek a szervezetükben.
URL:https://kibernaptar.hu/esemeny/ibf-tovabbkepzes-gill-murry/2026-05-08/
LOCATION:Online
CATEGORIES:Egyéb
ATTACH;FMTTYPE=image/jpeg:https://kibernaptar.hu/wp-content/uploads/2026/03/648318428_1541231970672208_3275601495903885502_n.jpg
ORGANIZER;CN="Gill &amp%3B Murry":MAILTO:hungary@gillandmurry.com
END:VEVENT
END:VCALENDAR