BEGIN:VCALENDAR
VERSION:2.0
PRODID:-//Kibernaptár - ECPv6.15.20//NONSGML v1.0//EN
CALSCALE:GREGORIAN
METHOD:PUBLISH
X-WR-CALNAME:Kibernaptár
X-ORIGINAL-URL:https://kibernaptar.hu
X-WR-CALDESC:Események Kibernaptár
REFRESH-INTERVAL;VALUE=DURATION:PT1H
X-Robots-Tag:noindex
X-PUBLISHED-TTL:PT1H
BEGIN:VTIMEZONE
TZID:Europe/Budapest
BEGIN:DAYLIGHT
TZOFFSETFROM:+0100
TZOFFSETTO:+0200
TZNAME:CEST
DTSTART:20250330T010000
END:DAYLIGHT
BEGIN:STANDARD
TZOFFSETFROM:+0200
TZOFFSETTO:+0100
TZNAME:CET
DTSTART:20251026T010000
END:STANDARD
BEGIN:DAYLIGHT
TZOFFSETFROM:+0100
TZOFFSETTO:+0200
TZNAME:CEST
DTSTART:20260329T010000
END:DAYLIGHT
BEGIN:STANDARD
TZOFFSETFROM:+0200
TZOFFSETTO:+0100
TZNAME:CET
DTSTART:20261025T010000
END:STANDARD
BEGIN:DAYLIGHT
TZOFFSETFROM:+0100
TZOFFSETTO:+0200
TZNAME:CEST
DTSTART:20270328T010000
END:DAYLIGHT
BEGIN:STANDARD
TZOFFSETFROM:+0200
TZOFFSETTO:+0100
TZNAME:CET
DTSTART:20271031T010000
END:STANDARD
END:VTIMEZONE
BEGIN:VEVENT
DTSTART;TZID=Europe/Budapest:20260512T000000
DTEND;TZID=Europe/Budapest:20260513T235959
DTSTAMP:20260419T212435
CREATED:20260302T135458Z
LAST-MODIFIED:20260302T135458Z
UID:10000258-1778544000-1778716799@kibernaptar.hu
SUMMARY:Enterprise 2026
DESCRIPTION:A jövő vállalata nem alkalmazkodik. Irányt mutat. \nA vállalati világ játékszabályai újraíródnak. A digitális térben ma már nem elég jónak lenni — előre kell látni\, gyorsan kell reagálni\, és képesnek kell lenni folyamatosan fejlődni. Az ehhez szükséges erő már a vállalatok kezében van: a rendszerekben\, az adatokban és az emberekben. A kérdés az\, hogyan válik mindez valódi üzleti teljesítménnyé. \nAz Enterprise 2026 konferencia megmutatja\, hogyan alakítható a szervezetekben rejlő potenciál mérhető növekedéssé\, hatékonysággá és versenyelőnnyé. Valós nagyvállalati esettanulmányokon\, transzformációs projekteken és piacformáló vezetők tapasztalatain keresztül mutatjuk meg\, hogyan válhat a szervezetben pislákoló energia nagy teljesítményű üzleti és technológiai hajtóművé. \nMájusban a stratégia\, a technológia és a vezetői döntéshozatal találkozik — fókuszban a jövő vállalatának működési modellje.
URL:https://kibernaptar.hu/esemeny/enterprise-2026/
LOCATION:Hotel Azúr\, Siófok\, 8600 Siófok\, Erkel Ferenc u. 2/c\, Siófok\, 8600
CATEGORIES:Szakmai Fórum
ATTACH;FMTTYPE=image/jpeg:https://kibernaptar.hu/wp-content/uploads/2026/02/Banner_Enterprise_2026_FB.jpg
ORGANIZER;CN="ICT Global":MAILTO:zsurban@ictglobal.hu
END:VEVENT
BEGIN:VEVENT
DTSTART;TZID=Europe/Budapest:20260514T123000
DTEND;TZID=Europe/Budapest:20260514T173000
DTSTAMP:20260419T212435
CREATED:20260216T095023Z
LAST-MODIFIED:20260216T095023Z
UID:10000254-1778761800-1778779800@kibernaptar.hu
SUMMARY:EIVOK-mVISZ Mesterséges Intelligencia biztonság tudományos-szakmai konferencia
DESCRIPTION:EIVOK-mVISZ tudományos-szakmai konferencia a mesterséges Intelligencia biztonságáról az OTP Bank Nyrt\, a HTE honlapon lévő program szerint.\nA helyszíni és online megtekintés is térítés mentes\, de mind a kettő előzetes regisztrációhoz kötött. \nhttps://www.hte.hu/esemenyek/-/esemeny/1/5021272/eivok-mvisz-mesterseges-intelligencia-biztonsag-tudomanyos-szakmai-konf-
URL:https://kibernaptar.hu/esemeny/eivok-mvisz-mesterseges-intelligencia-biztonsag-tudomanyos-szakmai-konferencia/
LOCATION:M12 OTP Irodaház\, Madarász V. u. 12.\, Budapest\, 1131
CATEGORIES:Szakmai Fórum
ORGANIZER;CN="EIVOK":MAILTO:eivok@hte.hu
END:VEVENT
END:VCALENDAR