BEGIN:VCALENDAR
VERSION:2.0
PRODID:-//Kibernaptár - ECPv6.15.20//NONSGML v1.0//EN
CALSCALE:GREGORIAN
METHOD:PUBLISH
X-ORIGINAL-URL:https://kibernaptar.hu
X-WR-CALDESC:Események Kibernaptár
REFRESH-INTERVAL;VALUE=DURATION:PT1H
X-Robots-Tag:noindex
X-PUBLISHED-TTL:PT1H
BEGIN:VTIMEZONE
TZID:Europe/Budapest
BEGIN:DAYLIGHT
TZOFFSETFROM:+0100
TZOFFSETTO:+0200
TZNAME:CEST
DTSTART:20250330T010000
END:DAYLIGHT
BEGIN:STANDARD
TZOFFSETFROM:+0200
TZOFFSETTO:+0100
TZNAME:CET
DTSTART:20251026T010000
END:STANDARD
BEGIN:DAYLIGHT
TZOFFSETFROM:+0100
TZOFFSETTO:+0200
TZNAME:CEST
DTSTART:20260329T010000
END:DAYLIGHT
BEGIN:STANDARD
TZOFFSETFROM:+0200
TZOFFSETTO:+0100
TZNAME:CET
DTSTART:20261025T010000
END:STANDARD
BEGIN:DAYLIGHT
TZOFFSETFROM:+0100
TZOFFSETTO:+0200
TZNAME:CEST
DTSTART:20270328T010000
END:DAYLIGHT
BEGIN:STANDARD
TZOFFSETFROM:+0200
TZOFFSETTO:+0100
TZNAME:CET
DTSTART:20271031T010000
END:STANDARD
END:VTIMEZONE
BEGIN:VEVENT
DTSTART;TZID=Europe/Budapest:20260528T083000
DTEND;TZID=Europe/Budapest:20260528T123000
DTSTAMP:20260420T014828
CREATED:20260410T073642Z
LAST-MODIFIED:20260410T073642Z
UID:10000286-1779957000-1779971400@kibernaptar.hu
SUMMARY:Valkyr – Palo Alto Workshop – 2026.05.28.
DESCRIPTION:Tisztelt Ügyfelünk! \nA Valkyr ezúton meghívja Önt a saját rendezésű\, Palo Alto megoldásokkal foglalkozó workshopjára. \nAz esemény keretein belül a hálózatbiztonság legfrissebb innovációit hozzuk el\, a Palo Alto Networks legújabb hardvereitől a PAN-OS 12.1 és a Quantum Security-hez kapcsolódó újdonságokig.\nKözösen járjuk körbe a hibrid munkavégzés jövőjét a Prisma Access SASE és a biztonságos böngészést forradalmasító Prisma Browser tükrében\, miközben kitérünk az LLM és MI rendszerek által kijelölt új határvédelmi vonalakra is.\nMélyrehatóan elemezzük a Cortex platform automatizációs képességeit és a piacon egyedülálló XDR megközelítését\, választ adva arra is\, hogyan tehermentesíthető egy túlterhelt biztonsági csapat. Zárásként pedig gyakorlati útmutatót nyújtunk az SLR és UTD laborok világához\, hogy a megszerzett tudást mihamarabb infrastruktúrájuk fejlesztésére fordíthassák!\nInteraktív\, megoldásközpontú délelőttel készülünk az Andrássy úti\, Csók bisztróban\, ahol lehetőségünk lesz a hely méltán híres gasztronómiájában is elmerülni. \nProgram:\n8:30-9:00 – Regisztráció\, kávé\, reggeli falatok\n9:00-9:30 – Újdonságok a PA tűzfalak háza táján: hardverek\, PAN-OS 12.1\, Quantum Security – Szabó Máté\n9:30-10:00 – Prisma Access SASE hibrid működésben és Prisma Browser\, mint az adatvédelem és a távoli hozzáférés legújabb eszköze – Szabó Máté\n10:00-10:50 – Reggeli/brunch\n10:50-11:20 – A chatablakon túl: Az LLM/MI rendszerek új biztonsági határvonalai – Vilhelm Zsolt\n11:20-11:50 – Végpontvédelem és automation a Cortex platformon. Mit jelent az XDR és miért más a Cortex XDR\, mint a többi modern végponti védelem? – Schulcz Norbert\n11:50-12:20 – Mit tehetünk\, ha a biztonsággal foglalkozó csapat kapacitása kisebb\, mint amennyi incidenst kellene kezelniük? – Schulcz Norbert\n12:20-12:30 – SLR\, UTD és további laborozási lehetőségek bemutatása – Szabó Máté \nA rendezvény ingyenes\, de jóváhagyott előzetes regisztrációhoz kötött.\nA rendezvénnyel kapcsolatos kérdés esetén keressen minket a +36305546093-os telefonszámon\, vagy írjon emailt a marketing@valkyr.hu címre.\nKérjük mihamarabb regisztráljon és vegyen részt a Valkyr-Palo Alto workshopon.
URL:https://kibernaptar.hu/esemeny/valkyr-palo-alto-workshop-2026-05-28/
LOCATION:Csók bisztró\, Andrássy út 112.\, Budapest\, 1062
CATEGORIES:Egyéb
END:VEVENT
BEGIN:VEVENT
DTSTART;TZID=Europe/Budapest:20260529T000000
DTEND;TZID=Europe/Budapest:20260529T235959
DTSTAMP:20260420T014828
CREATED:20260211T140355Z
LAST-MODIFIED:20260212T090458Z
UID:10000250-1780012800-1780099199@kibernaptar.hu
SUMMARY:A Kiberbiztonság gyakorlatAI vol. 2
DESCRIPTION:Az „A (kiber)biztonság gyakorlatAI” rendezvényünk célja\, hogy a mesterséges intelligencia kézzelfogható\, mindennapi felhasználását mutassa meg a (kiber)biztonság világában: nem elméleti ígéretekről beszélünk\, hanem arról\, mi működik a gyakorlatban\, milyen buktatók vannak bevezetéskor\, és hogyan lehet mérhetően javítani a védekezési képességeket. A konferenciát az NKI az EIVOK és az NKE/ÁNTK Kiberbiztonsági Kutatóintézet közösen szervezi\, a szakmai közösséget bevonva\, rövid\, tanulság-központú előadásokkal és beszélgetésekkel\, amelyekből a résztvevők azonnal alkalmazható megoldásokat és gondolatébresztő példákat vihetnek haza. A helyszín a Nemzeti Közszolgálati Egyetem – Ludovika Főépület (Széchenyi Díszterem)\, a program pedig a délelőtti idősávban zajlik majd.
URL:https://kibernaptar.hu/esemeny/a-kiberbiztonsag-gyakorlatai-vol-2/
LOCATION:Nemzeti Közszolgálati Egyetem\, Ludovika Főépület Díszterem\, Ludovika tér 2.\, Budapest\, 1083\, Hungary
CATEGORIES:NKI által szervezett események
ATTACH;FMTTYPE=image/png:https://kibernaptar.hu/wp-content/uploads/2026/02/boritokep.png
ORGANIZER;CN="EIVOK":MAILTO:eivok@hte.hu
END:VEVENT
BEGIN:VEVENT
DTSTART;TZID=Europe/Budapest:20260916T093000
DTEND;TZID=Europe/Budapest:20260916T130000
DTSTAMP:20260420T014828
CREATED:20251216T133024Z
LAST-MODIFIED:20251216T133024Z
UID:10000230-1789551000-1789563600@kibernaptar.hu
SUMMARY:Hétpecsét Információbiztonsági Egyesület - Információvédelem menedzselése - Szakmai fórum - 2026. szeptember 16. (szerda) - Óbudai Egyetem
DESCRIPTION:A Hétpecsét Információbiztonsági Egyesület minden páratlan hónap harmadik szerdáján rendezi meg ingyenes\, de regisztrációhoz kötött fórumait az Óbudai Egyetem Bécsi úti kampuszán. További részletek – program\, regisztráció\, tagfelvételi kérelem – az egyesület honlapján: www.hetpecset.hu
URL:https://kibernaptar.hu/esemeny/hetpecset-informaciobiztonsagi-egyesulet-informaciovedelem-menedzselese-szakmai-forum-2026-szeptember-16-szerda-obudai-egyetem/
LOCATION:Óbudai Egyetem 1034 Budapest\, Bécsi út 96/B.\, Bécsi út 96/B\,\, Budapest\, 1034
CATEGORIES:Szakmai Fórum
ATTACH;FMTTYPE=image/jpeg:https://kibernaptar.hu/wp-content/uploads/2025/12/logo_7pecsetkor_black-2.jpg
END:VEVENT
BEGIN:VEVENT
DTSTART;TZID=Europe/Budapest:20260924T000000
DTEND;TZID=Europe/Budapest:20260924T235959
DTSTAMP:20260420T014828
CREATED:20260312T063241Z
LAST-MODIFIED:20260312T063241Z
UID:10000262-1790208000-1790294399@kibernaptar.hu
SUMMARY:ITBN CONF-EXPO 2026
DESCRIPTION:Új helyszínnel készülünk az idei ITBN CONF-EXPO-ra! \nTágas\, átlátható terek – Maximális láthatóság \nBálna modern kialakítása biztosítja a látogatói flow folyamatosságát.\nFókuszban a standok: A nagy belmagasság\, tágas terek – vonzza a tekintetet\nJól szeparálható zónák: privátabb tárgyalások\, exkluzív demók a nyüzsgő kiállítótér közvetlen közelében. \nSzámtalan egyedi megoldás – Kreatív szabadság \nÚj megjelenési felületek: lehetőséget ad formabontó installációk és látványos branding elemek elhelyezésére. \nTalálkozzunk szeptember 24-én! Addig is kövess minket közösségi média felületeinken\, vagy böngéssz az ITBN platformján!
URL:https://kibernaptar.hu/esemeny/itbn-conf-expo-2026/
LOCATION:Bálna Honvédelmi Központ\, Fővám tér 11-12\, Budapest\, 1093
CATEGORIES:Egyéb,Szakmai Fórum
ORGANIZER;CN="ITBN":MAILTO:info@itbn.hu
END:VEVENT
BEGIN:VEVENT
DTSTART;TZID=Europe/Budapest:20261005T000000
DTEND;TZID=Europe/Budapest:20261005T235959
DTSTAMP:20260420T014828
CREATED:20260211T135627Z
LAST-MODIFIED:20260317T125903Z
UID:10000249-1791158400-1791244799@kibernaptar.hu
SUMMARY:11. Cybersec konferencia
DESCRIPTION:Idén is megrendezzük az immáron 11. Cybersec konferenciát\,\, amely a hazai IT-biztonsági szakmai közösség egyik legnagyobb találkozója: idén először több napra összehozza a döntéshozókat\, üzemeltetőket\, incidenskezelőket\, fejlesztőket és kutatókat\, hogy a legfontosabb aktuális kihívásokról – a fenyegetési trendektől és sérülékenység-kezeléstől a felhő- és identitásbiztonságon át az ellátási lánc kockázataiig – gyakorlatias\, tapasztalat-alapú előadásokon és beszélgetéseken osszák meg a tanulságokat. A program fókusza idén is az\, hogy a résztvevők ne csak inspirációt\, hanem hazavihető megoldásokat kapjanak: mi működik élesben\, milyen hibák ismétlődnek\, és hogyan lehet gyorsan\, mérhetően erősíteni a védelmet – mindezt erős szakmai networkinggel és élő párbeszéddel kiegészítve.
URL:https://kibernaptar.hu/esemeny/11-cybersec-konferencia/
CATEGORIES:NKI által szervezett események
ATTACH;FMTTYPE=image/png:https://kibernaptar.hu/wp-content/uploads/2026/02/CyberSec-LinkedIn-Single-Image-Ad-1.png
END:VEVENT
BEGIN:VEVENT
DTSTART;TZID=Europe/Budapest:20261110T000000
DTEND;TZID=Europe/Budapest:20261112T235959
DTSTAMP:20260420T014828
CREATED:20260302T135640Z
LAST-MODIFIED:20260302T135640Z
UID:10000259-1794268800-1794527999@kibernaptar.hu
SUMMARY:Future IT 2026
DESCRIPTION:Future IT 2026 – Ahol üzlet születik a találkozásokból. \nA digitális tér játékszabályai folyamatosan változnak. \nA tegnap még stabilnak hitt stratégiák ma már korrekcióra szorulnak\, a holnap technológiája pedig már most formálja az üzleti döntéseket. \nA Future IT 2026 konferencián nem csupán trendeket mutatunk be. A hype mögé nézünk\, és azokat a valós\, fenntartható technológiai megoldásokat és üzleti stratégiákat keressük\, amelyek a radikális bizonytalanság korszakában is működnek. \n🎯 Gyakorlat. \n📊 Valós üzleti tapasztalatok. \n🚀 Versenyelőnyt adó tudás
URL:https://kibernaptar.hu/esemeny/future-it-2026/
LOCATION:Hotel Azúr\, Siófok\, 8600 Siófok\, Erkel Ferenc u. 2/c\, Siófok\, 8600
CATEGORIES:Szakmai Fórum
ATTACH;FMTTYPE=image/jpeg:https://kibernaptar.hu/wp-content/uploads/2026/02/Final-Boritokep_Future_IT_2026-uj-scaled.jpg
ORGANIZER;CN="ICT Global":MAILTO:zsurban@ictglobal.hu
END:VEVENT
BEGIN:VEVENT
DTSTART;TZID=Europe/Budapest:20261118T093000
DTEND;TZID=Europe/Budapest:20261118T130000
DTSTAMP:20260420T014828
CREATED:20251216T133301Z
LAST-MODIFIED:20251216T133301Z
UID:10000231-1794994200-1795006800@kibernaptar.hu
SUMMARY:Hétpecsét Információbiztonsági Egyesület - Információvédelem menedzselése - Szakmai fórum - 2026. november 18. (szerda) - Óbudai Egyetem
DESCRIPTION:A Hétpecsét Információbiztonsági Egyesület minden páratlan hónap harmadik szerdáján rendezi meg ingyenes\, de regisztrációhoz kötött fórumait az Óbudai Egyetem Bécsi úti kampuszán. További részletek – program\, regisztráció\, tagfelvételi kérelem – az egyesület honlapján: www.hetpecset.hu
URL:https://kibernaptar.hu/esemeny/hetpecset-informaciobiztonsagi-egyesulet-informaciovedelem-menedzselese-szakmai-forum-2026-november-18-szerda-obudai-egyetem/
LOCATION:Óbudai Egyetem 1034 Budapest\, Bécsi út 96/B.\, Bécsi út 96/B\,\, Budapest\, 1034
CATEGORIES:Szakmai Fórum
ATTACH;FMTTYPE=image/jpeg:https://kibernaptar.hu/wp-content/uploads/2025/12/logo_7pecsetkor_black-3.jpg
END:VEVENT
END:VCALENDAR